{"text_format":"1","workbook":"xlsx","n_sheets":9,"sheets":["WDI_Standard_Order_Form","OSC_Calcs","Octagon_Template","Stool_Template","Round_top_Template","Round_top_Template_Extended","Trapezoid_Template","Price_Matrix","Revisions"],"not_rendered":{"charts":0,"images":5,"macros":1,"external_links":0,"defined_names":25,"comments":0,"pivot_tables":0},"unopened":[],"bounds":{"document_bytes":16777216,"sheet_cells":100000,"rows_first":2000,"rows_last":500,"rows_between":2000,"halvings":0,"cell_chars":16384,"cell_head_chars":4096},"cells_cut":0,"cells_raw":0,"read":"whole","date_system":"1900"}

{"sheet":"WDI_Standard_Order_Form","index":0,"n_rows":46,"n_cols":97,"rows_kept":46,"cut":false,"hidden":false,"merged":[[5,40,6,40],[5,62,6,62],[0,0,0,6]]}
["WDI Company - Window Box Order Form\nPlease complete Green/Tan Cells Only",null,null,null,null,null,null,"WDI  (651) 464-6190        Fax: (651) 464-6191",null,null,null,null,null,"Both:",{"$f":"IF(+L5<1,+CONCATENATE(\"#\",C5,\" \",I4,+\" PO#\",+C3,\" \",+C2,\" - \",+I5,\" Bx in Color #\", +M9,\" - Due: \",+AF5), +CONCATENATE(\"#\",+C5,\" \",+I4,+\" PO#\",+C3,\" \",+C2,\" - \",+I5,\" Bx in Color #\",+M9,\" + \",+L5,\" Parts - Due: \",+AF5))","v":"#  PO#  - 1 Bx in Color # - Due: 01/00"},null,null,"WDI Company",null,null,null,null,null,null,null,null,null,null,"",null,null,null,null,null,null,null,null,"Error Codes --->",null,null,null,null,null,null,null,null,null,null,null,null,null,null,"Other logic faults -->"]
[null,"Job Name:",null,null,null,null,null,"Order Date:",null,null,null,null,null,"Box:",{"$f":"IF(+L5<1,+CONCATENATE(\"#\",C5,\" \",I4,+\" PO#\",+C3,\" \",+C2,\" - \",+I5,\" Bx in Color #\", +M9,\" - Due: \",+AF5), +CONCATENATE(\"#\",+C5,\" \",+I4,+\" PO#\",+C3,\" \",+C2,\" - \",+I5,\" Bx in Color #\",+M9,\" + \",+AF5))","v":"#  PO#  - 1 Bx in Color # - Due: 01/00"},null,null,"651) 464-6190    (800) 899-4265",null,null,null,null,null,null,null,null,null,null,null,null,"Price Deck:",{"$f":"IF(I4=\"CRI\",\"C\",\"W\")","v":"W"},"Formulas include casing width, stop size",null,null,null,null,null,1,2,3,3.1,3.2,4,5,7,8,9,10,11,12,13,14,15,16,17,18]
[null,"PO #:",null,null,null,null,null,"WDI Ship Date:",null,null,null,null,{"$f":"IF(I3-I2<14,\"Short lead time, Rush charges may apply\",IF(I3-I2>30,\"Ship date is >30 days\",\"\"))","v":"Short lead time, Rush charges may apply"},"Parts:",{"$f":"IF(+L5<1,+CONCATENATE(\"#\",C5,\" \",I4,+\" PO#\",+C3,\" \",+C2,\" - \",\" - Due: \",+AF5), +CONCATENATE(\"#\",+C5,\" \",+I4,+\" PO#\",+C3,\" \",+C2,\" - \",+M9,\" + \",+SUM(B21:B24),\" Millwork Parts - Due: \",+AF5))","v":"#  PO#  -  - Due: 01/00"},null,null,"Fax: (651) 464-6191",null,null,null,null,null,null,null,null,null,null,null,null,"Scaler:",0.51500000000000001,"white premium, CRI vs WDI Pricing",null,null,null,null,null,null,null,null,null,null,null,null,null,null,null,null,null,null,null,null,null,null,null,null,null,null,null,"Errors"]
[null,"Ordered By:",null,null,null,null,null,"Customer Name:",null,null,null,null,null,null,null,null,null,"www.WDICustomWood.com",null,null,null,null,null,null,null,null,null,null,null,null,null,null,null,null,"CALCS",null,null,null,"*Box width too small/large ","*Box height too small/large ","*Opening Type Error ","*Dim A & No stool selected","*Dim B & No stool selected","*Jamb Species not stock ","*Jamb depth too small/large ","*Casing Profile not stock ","*Casing width not stock ",null,"*Stop/Mull Profile not stock ","*Stop width too small/large ","*Not a stock color","*Notes Err ","*Refuse White on Oak",null,"*Stop is wider than jamb",null,null,null,null,null,{"$f":"+AM4","v":"*Box width too small/large "},{"$f":"+AN4","v":"*Box height too small/large "},{"$f":"+AO4","v":"*Opening Type Error "},"*Dim A & No stool selected","*Dim B & No stool selected",{"$f":"+AR4","v":"*Jamb Species not stock "},{"$f":"+AS4","v":"*Jamb depth too small/large "},{"$f":"+AT4","v":"*Casing Profile not stock "},"*Casing width not stock ",0,"*Stop/Mull Profile not stock ","*Stop width too small/large ","*Not a stock color",{"$f":"+AZ4","v":"*Notes Err "},"*Refuse White on Oak",0,"*Stop is wider than jamb",0,0,null,"string errors",null,null,"Line Count check",null,"Weight Calcs -->"]
[null,"WDI Job #",null,null,null,null,null,"# Window Line Items:",1,null,"# Parts Line Items:",null,"Total Items:",{"$f":"+L5+I5","v":1},{"$f":"IF(+I5+L5<>+N5,\"Error - Line Count Off !!\",\"\")","v":""},null,"See our window video:","http://www.wdicustomwood.com/building-products",null,null,null,null,null,null,null,null,null,null,null,null,"Due:",{"$f":"TEXT(I3,\"MM/DD\")","v":"01/00"},null,null,null,null,null,null,null,null,null,null,null,null,null,null,null,null,null,null,null,null,null,null,null,null,null,null,null,null,null,null,null,null,null,null,null,null,null,null,null,null,null,null,null,null,null,null,null,null,null,null,null,null,null,null,null,null,"Weights -->",null,null,"Total"]
[null,"Box Size (O.D.)",null,"Type"," Stools",null,"Species","Jamb Depth","Casing Profile #","Casing","Stop/Mull (WDST-numbers)","Stop/Mull","Window","Notes","Order messages & errors",null,"Window","Window","Additional","Additional","Additional","Additional","Additional","Window",null,null,null,null,null,null,null,null,null,"Casing","Casing Profile #",null,null,null,"Box Size (O.D.)",null,"Opening Type","Stools",null,"Jamb","Jamb Depth","Casing Profile #","Casing",null,"Stop/Mull (WDST-numbers)","Stop/Mull","Window","Notes",null,"Open 7/11/14",null,null,null,null,null,null,"Box Size (O.D.)",null,"Opening Type","Stools",null,"Jamb","Jamb Depth","Casing Profile #","Casing",null,"Stop/Mull (WDST #....)","Stop/Mull","Window","Notes",null,null,null,null,null,null,null,null,null,null,null,"UI","lft","Jamb Width","Casing #/Lft","Stop #/lft","1\" Jamb #/lft","Weight","Jamb?","Casing ?","Stop?"]
["#","Width","Height","Opening","Dim A","Dim B","Species (Oak, Maple, Poplar)","From inside of Window","(WDI #113, #115, #118)","Width (2.25\", 2.5\", 3.25\")","Stock Profiles #006, 007, 009, 011 *","Width (Standard = 1.25\")","Color # (from color chips dated 2019 or newer)","Descriptions",null,null,"Pricing Length (Inches)","Casing & Jamb Price","Stop Charges","Items & Charges","Items & Charges","Items & Charges","Items & Charges","Total Price",null,null,"Weight (lbs)",null,null,null,null,null,null,"Width (2.25\", 2.5\", 3.25\")","Revised Casing Name",null,null,null,"Width","Height",null,"Dim A","Dim B","Species (Oak, Maple, Poplar)","From inside of Window","(WDI #113, #115, #118, etc.)","Width (2.25\", 2.5\", 3.25\")",null,"Stock Profiles #006, 007, 009, 011","Width (Standard = 1.25\")","Color","Descriptions","White on Oak check",null,"Stop wider than jamb",null,null,null,"SUM",null,"Width","Height",null,"Dim A","Dim B","Species (Oak, Maple, Poplar)","From inside of Window","(WDI #113, #115, #118, etc.)","Width (2.25, 3.25, 5.0\")",null,"Profile #004, 006, 007, 008, 009, 011)","Width (Standard = 1.25\")","Color","Descriptions",null,null,null,null,null,null,"<-- ERROR MESSAGES -->",null,null,null,null,null,null,null,0.42,0.15,0.23]
[1,2,3,null,null,null,4,5,6,8,9,null,10,11,null,12,13,14,null,null,null,null,16,17,null,null,16,null,19,20,null,null,null,8,6]
[1,null,null,"W",null,null,null,null,null,null,null,{"$f":"IF(K9=\"\",\"\",IF(K9=\"006\",IF(H9>2,1.25,1), IF(K9=\"007\",2, IF(K9=\"009\",0.75, IF(K9=\"011\",1.25,IF(K9=\"001\",0.75,0.754))))))","v":""},null,null,{"$f":"+CC9","v":"- Invalid Line -"},null,{"$f":"SUM(B9:C9)","v":0},{"$f":"+Price_Matrix!T54","v":0},{"$f":"+Price_Matrix!T84","v":0},null,null,null,null,{"$f":"SUM(R9:W9)","v":0},null,null,{"$f":"+CN9","v":0},null,null,null,null,null,null,{"$f":"IF(J9=2.25,\"R \",IF(J9=2.5,\"W \",IF(J9=3.25,\"EW\",\"\")))","v":""},{"$f":"+CONCATENATE(I9,AH9)","v":""},null,null,{"$f":"IF(D9=\"W\",1,IF(D9=\"S\",1,IF(D9=\"D\",1,IF(D9=\"H\",1,IF(D9=\"O\",1,IF(D9=\"C\",1,\"Error**\"))))))","v":1},{"$f":"IF(B9<10,IF(B9>96,10,0),0)","v":0},{"$f":"IF(C9<10,IF(C9>96,20,0),0)","v":0},{"$f":"IF(D9=\"W\",0,IF(D9=\"S\",0,IF(D9=\"D\",0,IF(D9=\"H\",0,IF(D9=\"O\",0,IF(D9=\"C\",0,30))))))","v":0},{"$f":"IF(D9<>\"S\",IF(E9<>0,31,0),0)","v":0},{"$f":"IF(D9<>\"S\",IF(F9<>0,31,0),0)","v":0},{"$f":"IF(G9=\"Oak\",0,IF(G9=\"Maple\",0,IF(G9=\"Poplar\",0,40)))","v":40},{"$f":"IF(B9<>0,IF(H9<1,50, IF(H9>6.5,51,0)),0)","v":0},{"$f":"IF(I9=113,0,IF(I9=115,0,IF(I9=118,0,70)))","v":70},{"$f":"IF(J9=2.25,0,IF(J9=2.5,0,IF(J9=3.25,0,80)))","v":80},null,{"$f":"IF(K9=\"006\",0,IF(K9=\"007\",0,IF(K9=\"009\",0,IF(K9=\"011\",0,IF(K9=\"001\",0,100)))))","v":100},{"$f":"IF(L9<0.5,IF(L9>3,110,0),0)","v":0},{"$f":"IF(M9>=50,IF(M9<=76,0,IF(M9=30,0,121)),120)","v":120},null,{"$f":"IF(M9=75,IF(G9=\"Oak\",150,0),0)","v":0},null,{"$f":"IF(L9>H9,160,0)","v":0},null,null,null,{"$f":"SUM(AM9:BF9)","v":410},null,{"$f":"IF(AM9=0,\"\",+AM$4)","v":""},{"$f":"IF(AN9=0,\"\",+AN$4)","v":""},{"$f":"IF(AO9=0,\"\",+AO$4)","v":""},{"$f":"IF(AP9=0,\"\",+AP$4)","v":""},{"$f":"IF(AQ9=0,\"\",+AQ$4)","v":""},{"$f":"IF(AR9=0,\"\",+AR$4)","v":"*Jamb Species not stock "},{"$f":"IF(AS9=0,\"\",+AS$4)","v":""},{"$f":"IF(AT9=0,\"\",+AT$4)","v":"*Casing Profile not stock "},{"$f":"IF(AU9=0,\"\",+AU$4)","v":"*Casing width not stock "},{"$f":"IF(AV9=0,\"\",+AV$4)","v":""},{"$f":"IF(AW9=0,\"\",+AW$4)","v":"*Stop/Mull Profile not stock "},{"$f":"IF(AX9=0,\"\",+AX$4)","v":""},{"$f":"IF(AY9=0,\"\",+AY$4)","v":"*Not a stock color"},{"$f":"IF(AZ9=0,\"\",+AZ$4)","v":""},{"$f":"IF(BA9=0,\"\",+BA$4)","v":""},{"$f":"IF(BB9=0,\"\",+BB$4)","v":""},{"$f":"IF(BC9=0,\"\",+BC$4)","v":""},{"$f":"IF(BD9=0,\"\",+BD$4)","v":""},{"$f":"IF(BE9=0,\"\",+BE$4)","v":""},null,{"$f":"IF(B9<>\"\",+CONCATENATE(BI9,BJ9,BK9,BL9,BM9,BN9,BO9,BP9,BQ9,BS9,BT9,BU9,BV9,BW9,BX9,BY9,BZ9,CA9),\"- Invalid Line -\")","v":"- Invalid Line -"},null,null,null,null,{"$f":"+Q9","v":0},{"$f":"+CH9*2/12","v":0},{"$f":"+E9+H9","v":0},{"$f":"IF(CP9<>0,+CI9*$CK$7,0)","v":0},{"$f":"IF(CQ9<>0,+CI9*$CL$7,0)","v":0},{"$f":"+CI9*CJ9*$CM$7","v":0},{"$f":"SUM(CK9:CM9)","v":0},{"$f":"+H9","v":0},{"$f":"+J9","v":0},{"$f":"+L9","v":""},null,{"$f":"+AT9","v":70}]
[2,null,null,"W",null,null,null,null,null,null,null,"",{"$f":"IF(M9=\"\",\"\",+M9)","v":""},null,"- Invalid Line -",null,{"$f":"SUM(B10:C10)","v":0},{"$f":"+Price_Matrix!T55","v":0},{"$f":"+Price_Matrix!T85","v":0},null,null,null,null,{"$f":"SUM(R10:W10)","v":0},null,null,{"$f":"+CN10","v":0},null,null,null,null,null,null,"","",null,null,1,0,0,0,0,0,40,0,70,80,null,100,0,{"$f":"IF(M10>=50,IF(M10<=76,0,IF(M10=30,0,121)),120)","v":121},null,{"$f":"IF(M10=75,IF(G10=\"Oak\",150,0),0)","v":0},null,0,null,null,null,{"$f":"SUM(AM10:BF10)","v":411},null,{"$f":"IF(AM10=0,\"\",+AM$4)","v":""},"","","","","*Jamb Species not stock ","","*Casing Profile not stock ","*Casing width not stock ","","*Stop/Mull Profile not stock ","","*Not a stock color","","","","","","",null,"- Invalid Line -",null,null,null,null,0,{"$f":"+CH10*2/12","v":0},0,{"$f":"IF(CP10<>0,+CI10*$CK$7,0)","v":0},{"$f":"IF(CQ10<>0,+CI10*$CL$7,0)","v":0},{"$f":"+CI10*CJ10*$CM$7","v":0},{"$f":"SUM(CK10:CM10)","v":0},0,{"$f":"+J10","v":0},{"$f":"+L10","v":""}]
[3,null,null,"W",null,null,null,null,null,null,null,"","",null,"- Invalid Line -",null,0,{"$f":"+Price_Matrix!T56","v":0},{"$f":"+Price_Matrix!T86","v":0},null,null,null,null,0,null,null,0,null,null,null,null,null,null,"","",null,null,1,0,0,0,0,0,40,0,70,80,null,100,0,121,null,0,null,0,null,null,null,411,null,"","","","","","*Jamb Species not stock ","","*Casing Profile not stock ","*Casing width not stock ","","*Stop/Mull Profile not stock ","","*Not a stock color","","","","","","",null,"- Invalid Line -",null,null,null,null,0,0,0,0,0,0,0,0,0,""]
[4,null,null,"W",null,null,null,null,null,null,null,"","",null,"- Invalid Line -",null,0,{"$f":"+Price_Matrix!T57","v":0},{"$f":"+Price_Matrix!T87","v":0},null,null,null,null,0,null,null,0,null,null,null,null,null,null,"","",null,null,1,0,0,0,0,0,40,0,70,80,null,100,0,121,null,0,null,0,null,null,null,411,null,"","","","","","*Jamb Species not stock ","","*Casing Profile not stock ","*Casing width not stock ","","*Stop/Mull Profile not stock ","","*Not a stock color","","","","","","",null,"- Invalid Line -",null,null,null,null,0,0,0,0,0,0,0,0,0,""]
[5,null,null,"W",null,null,null,null,null,null,null,"","",null,"- Invalid Line -",null,0,{"$f":"+Price_Matrix!T58","v":0},{"$f":"+Price_Matrix!T88","v":0},null,null,null,null,0,null,null,0,null,null,null,null,null,null,"","",null,null,1,0,0,0,0,0,40,0,70,80,null,100,0,121,null,0,null,0,null,null,null,411,null,"","","","","","*Jamb Species not stock ","","*Casing Profile not stock ","*Casing width not stock ","","*Stop/Mull Profile not stock ","","*Not a stock color","","","","","","",null,"- Invalid Line -",null,null,null,null,0,0,0,0,0,0,0,0,0,""]
[6,null,null,"W",null,null,null,null,null,null,null,"","",null,"- Invalid Line -",null,0,{"$f":"+Price_Matrix!T59","v":0},{"$f":"+Price_Matrix!T89","v":0},null,null,null,null,0,null,null,0,null,null,null,null,null,null,"","",null,null,1,0,0,0,0,0,40,0,70,80,null,100,0,121,null,0,null,0,null,null,null,411,null,"","","","","","*Jamb Species not stock ","","*Casing Profile not stock ","*Casing width not stock ","","*Stop/Mull Profile not stock ","","*Not a stock color","","","","","","",null,"- Invalid Line -",null,null,null,null,0,0,0,0,0,0,0,0,0,""]
[7,null,null,"W",null,null,null,null,null,null,null,"","",null,"- Invalid Line -",null,0,{"$f":"+Price_Matrix!T60","v":0},{"$f":"+Price_Matrix!T90","v":0},null,null,null,null,0,null,null,0,null,null,null,null,null,null,"","",null,null,1,0,0,0,0,0,40,0,70,80,null,100,0,121,null,0,null,0,null,null,null,411,null,"","","","","","*Jamb Species not stock ","","*Casing Profile not stock ","*Casing width not stock ","","*Stop/Mull Profile not stock ","","*Not a stock color","","","","","","",null,"- Invalid Line -",null,null,null,null,0,0,0,0,0,0,0,0,0,""]
[8,null,null,"W",null,null,null,null,null,null,null,"",{"$f":"IF(M15=\"\",\"\",+M15)","v":""},null,"- Invalid Line -",null,0,{"$f":"+Price_Matrix!T61","v":0},{"$f":"+Price_Matrix!T91","v":0},null,null,null,null,0,null,null,0,null,null,null,null,null,null,"","",null,null,1,0,0,0,0,0,40,0,70,80,null,100,0,121,null,0,null,0,null,null,null,411,null,"","","","","","*Jamb Species not stock ","","*Casing Profile not stock ","*Casing width not stock ","","*Stop/Mull Profile not stock ","","*Not a stock color","","","","","","",null,"- Invalid Line -",null,null,null,null,0,0,0,0,0,0,0,0,0,""]
[9,null,null,"W",null,null,null,null,null,null,null,"",{"$f":"IF(M16=\"\",\"\",+M16)","v":""},null,"- Invalid Line -",null,0,{"$f":"+Price_Matrix!T62","v":0},{"$f":"+Price_Matrix!T92","v":0},null,null,null,null,0,null,null,0,null,null,null,null,null,null,"","",null,null,1,0,0,0,0,0,40,0,70,80,null,100,0,121,null,0,null,0,null,null,null,411,null,"","","","","","*Jamb Species not stock ","","*Casing Profile not stock ","*Casing width not stock ","","*Stop/Mull Profile not stock ","","*Not a stock color","","","","","","",null,"- Invalid Line -",null,null,null,null,0,0,0,0,0,0,0,0,0,""]
[10,null,null,"W",null,null,null,null,null,null,null,"",{"$f":"IF(M17=\"\",\"\",+M17)","v":""},null,"- Invalid Line -",null,0,{"$f":"+Price_Matrix!T63","v":0},{"$f":"+Price_Matrix!T93","v":0},null,null,null,null,0,null,null,0,null,null,null,null,null,null,"","",null,null,1,0,0,0,0,0,40,0,70,80,null,100,0,121,null,0,null,0,null,null,null,411,null,"","","","","","*Jamb Species not stock ","","*Casing Profile not stock ","*Casing width not stock ","","*Stop/Mull Profile not stock ","","*Not a stock color","","","","","","",null,"- Invalid Line -",null,null,null,null,0,0,0,0,0,0,0,0,0,""]
[11,null,null,"W",null,null,null,null,null,null,null,"",{"$f":"IF(M18=\"\",\"\",+M18)","v":""},null,"- Invalid Line -",null,0,{"$f":"+Price_Matrix!T64","v":0},{"$f":"+Price_Matrix!T94","v":0},null,null,null,null,0,null,null,0,null,null,null,null,null,null,"","",null,null,1,0,0,0,0,0,40,0,70,80,null,100,0,121,null,0,null,0,null,null,null,411,null,"","","","","","*Jamb Species not stock ","","*Casing Profile not stock ","*Casing width not stock ","","*Stop/Mull Profile not stock ","","*Not a stock color","","","","","","",null,"- Invalid Line -",null,null,null,null,0,0,0,0,0,0,0,0,0,""]
[null,"Amount","Length (Inches)",null,null,null,"Species",null,null,null,"Misc profile",null,"Color #","Last 4 lines for Parts",null,null,"Length (lft)",null,null,null,null,null,null,null,null,null,0]
[1,null,null,"P",null,null,null,null,null,null,null,null,{"$f":"+M19","v":""},null,{"$f":"+BZ21","v":""},null,{"$f":"+B21*C21/12","v":0},null,null,null,null,null,null,{"$f":"SUM(R21:W21)","v":0},null,null,0,null,null,null,null,null,null,{"$f":"IF(J21=2.25,\"R \",IF(J21=2.5,\"W \",IF(J21=3.25,\"EW\",\"\")))","v":""},{"$f":"+CONCATENATE(I21,AH21)","v":""},null,null,{"$f":"IF(D21=\"P\",1,\"Error\")","v":1},null,null,null,null,null,{"$f":"IF(G21=\"Oak\",0,IF(G21=\"Maple\",0,IF(G21=\"Poplar\",0,40)))","v":40},{"$f":"IF(B21<>0,IF(H21=0,0,IF(H21<1,50, IF(H21>6.5,51,0))),0)","v":0},{"$f":"IF(I21=113,0,IF(I21=115,0,IF(I21=118,0,IF(I21=\"\",0,70))))","v":0},{"$f":"IF(I21=0,0,IF(J21=2.25,0,IF(J21=2.5,0,IF(J21=3.25,0,80))))","v":0},null,{"$f":"IF(K21=0,0,IF(K21=\"006\",0,IF(K21=\"007\",0,IF(K21=\"009\",0,IF(K21=\"011\",0,IF(K21=\"001\",0,100))))))","v":0},null,121,null,0,null,null,null,null,null,161,null,"","","","","","*Jamb Species not stock ","","","","","","","*Not a stock color",{"$f":"IF(AZ21=0,\"\",+AZ$4)","v":""},"","","","","",null,{"$f":"IF(B21<>\"\",+CONCATENATE(BI21,BJ21,BK21,BL21,BM21,BN21,BO21,BP21,BQ21,BS21,BT21,BU21,BV21,BW21,BX21,BY21,BZ21,CA21),\"- Invalid Line -\")","v":"- Invalid Line -"},null,null,null,null,null,{"$f":"+Q21","v":0},{"$f":"+E21+H21","v":0},{"$f":"IF(CP21<>0,+CI21*$CK$7,0)","v":0},{"$f":"IF(CQ21<>0,+CI21*$CL$7,0)","v":0},{"$f":"+CI21*CJ21*$CM$7","v":0},{"$f":"SUM(CK21:CM21)","v":0},null,{"$f":"+J21","v":0},0]
[2,null,null,"P",null,null,null,null,null,null,null,null,{"$f":"IF(M21=\"\",\"\",+M21)","v":""},null,{"$f":"+BZ22","v":""},null,{"$f":"+B22*C22/12","v":0},null,null,null,null,null,null,{"$f":"SUM(R22:W22)","v":0},null,null,0,null,null,null,null,null,null,{"$f":"IF(J22=2.25,\"R \",IF(J22=2.5,\"W \",IF(J22=3.25,\"EW\",\"\")))","v":""},{"$f":"+CONCATENATE(I22,AH22)","v":""},null,null,{"$f":"IF(D22=\"P\",1,\"Error\")","v":1},null,null,null,null,null,{"$f":"IF(G22=\"Oak\",0,IF(G22=\"Maple\",0,IF(G22=\"Poplar\",0,40)))","v":40},{"$f":"IF(B22<>0,IF(H22=0,0,IF(H22<1,50, IF(H22>6.5,51,0))),0)","v":0},{"$f":"IF(I22=113,0,IF(I22=115,0,IF(I22=118,0,IF(I22=\"\",0,70))))","v":0},{"$f":"IF(I22=0,0,IF(J22=2.25,0,IF(J22=2.5,0,IF(J22=3.25,0,80))))","v":0},null,{"$f":"IF(K22=0,0,IF(K22=\"006\",0,IF(K22=\"007\",0,IF(K22=\"009\",0,IF(K22=\"011\",0,IF(K22=\"001\",0,100))))))","v":0},null,121,null,0,null,null,null,null,null,161,null,"","","","","","*Jamb Species not stock ","","","","","","","*Not a stock color","","","","","","",null,{"$f":"IF(B22<>\"\",+CONCATENATE(BI22,BJ22,BK22,BL22,BM22,BN22,BO22,BP22,BQ22,BS22,BT22,BU22,BV22,BW22,BX22,BY22,BZ22,CA22),\"- Invalid Line -\")","v":"- Invalid Line -"},null,null,null,null,null,{"$f":"+Q22","v":0},{"$f":"+E22+H22","v":0},0,{"$f":"IF(CQ22<>0,+CI22*$CL$7,0)","v":0},0,0,null,0,0]
[3,null,null,"P",null,null,null,null,null,null,null,null,{"$f":"IF(M22=\"\",\"\",+M22)","v":""},null,{"$f":"+BZ23","v":""},null,{"$f":"+B23*C23/12","v":0},null,null,null,null,null,null,{"$f":"SUM(R23:W23)","v":0},null,null,0,null,null,null,null,null,null,{"$f":"IF(J23=2.25,\"R \",IF(J23=2.5,\"W \",IF(J23=3.25,\"EW\",\"\")))","v":""},{"$f":"+CONCATENATE(I23,AH23)","v":""},null,null,{"$f":"IF(D23=\"P\",1,\"Error\")","v":1},null,null,null,null,null,{"$f":"IF(G23=\"Oak\",0,IF(G23=\"Maple\",0,IF(G23=\"Poplar\",0,40)))","v":40},{"$f":"IF(B23<>0,IF(H23=0,0,IF(H23<1,50, IF(H23>6.5,51,0))),0)","v":0},{"$f":"IF(I23=113,0,IF(I23=115,0,IF(I23=118,0,IF(I23=\"\",0,70))))","v":0},{"$f":"IF(I23=0,0,IF(J23=2.25,0,IF(J23=2.5,0,IF(J23=3.25,0,80))))","v":0},null,{"$f":"IF(K23=0,0,IF(K23=\"006\",0,IF(K23=\"007\",0,IF(K23=\"009\",0,IF(K23=\"011\",0,IF(K23=\"001\",0,100))))))","v":0},null,121,null,0,null,null,null,null,null,161,null,"","","","","","*Jamb Species not stock ","","","","","","","*Not a stock color","","","","","","",null,{"$f":"IF(B23<>\"\",+CONCATENATE(BI23,BJ23,BK23,BL23,BM23,BN23,BO23,BP23,BQ23,BS23,BT23,BU23,BV23,BW23,BX23,BY23,BZ23,CA23),\"- Invalid Line -\")","v":"- Invalid Line -"},null,null,null,null,null,{"$f":"+Q23","v":0},{"$f":"+E23+H23","v":0},0,{"$f":"IF(CQ23<>0,+CI23*$CL$7,0)","v":0},0,0,null,0,0]
[4,null,null,"P",null,null,null,null,null,null,null,null,{"$f":"IF(M23=\"\",\"\",+M23)","v":""},null,{"$f":"+BZ24","v":""},null,{"$f":"+B24*C24/12","v":0},null,null,null,null,null,null,{"$f":"SUM(R24:W24)","v":0},null,null,0,null,null,null,null,null,null,{"$f":"IF(J24=2.25,\"R \",IF(J24=2.5,\"W \",IF(J24=3.25,\"EW\",\"\")))","v":""},{"$f":"+CONCATENATE(I24,AH24)","v":""},null,null,{"$f":"IF(D24=\"P\",1,\"Error\")","v":1},null,null,null,null,null,{"$f":"IF(G24=\"Oak\",0,IF(G24=\"Maple\",0,IF(G24=\"Poplar\",0,40)))","v":40},{"$f":"IF(B24<>0,IF(H24=0,0,IF(H24<1,50, IF(H24>6.5,51,0))),0)","v":0},{"$f":"IF(I24=113,0,IF(I24=115,0,IF(I24=118,0,IF(I24=\"\",0,70))))","v":0},{"$f":"IF(I24=0,0,IF(J24=2.25,0,IF(J24=2.5,0,IF(J24=3.25,0,80))))","v":0},null,{"$f":"IF(K24=0,0,IF(K24=\"006\",0,IF(K24=\"007\",0,IF(K24=\"009\",0,IF(K24=\"011\",0,IF(K24=\"001\",0,100))))))","v":0},null,121,null,0,null,null,null,null,null,161,null,"","","","","","*Jamb Species not stock ","","","","","","","*Not a stock color","","","","","","",null,{"$f":"IF(B24<>\"\",+CONCATENATE(BI24,BJ24,BK24,BL24,BM24,BN24,BO24,BP24,BQ24,BS24,BT24,BU24,BV24,BW24,BX24,BY24,BZ24,CA24),\"- Invalid Line -\")","v":"- Invalid Line -"},null,null,null,null,null,{"$f":"+Q24","v":0},{"$f":"+E24+H24","v":0},0,{"$f":"IF(CQ24<>0,+CI24*$CL$7,0)","v":0},0,0,null,0,0]
[null,null,null,null,null,null,null,null,null,null,"ff",null,null,null,null,null,null,null,null,null,null,null,null,null,null,null,null,null,null,null,null,null,null,null,null,null,null,null,null,null,null,null,null,null,null,null,null,null,null,null,null,null,null,null,null,null,null,null,null,null,null,null,null,null,null,null,null,null,null,null,null,null,null,null,null,null,null,null,null,null,{"$f":"+CONCATENATE(BI25,BJ25,BK25,BL25,BM25,BN25,BO25,BP25,BQ25,BS25,BT25,BU25,BV25,BW25,BX25,BY25,BZ25,CA25)","v":""}]
[null,null,null,null,"Type is (W)indow, (D)oor, (S)tool, (H)eader, (O)ctagon, or (C)ustom",null,null,null,null,null,"* - also accepts  \"001\" for WDSH-001",null,null,null,null,null,{"$f":"SUM(Q9:Q25)","v":0},{"$f":"SUM(R9:R25)","v":0},{"$f":"SUM(S9:S25)","v":0},0,0,0,0,{"$f":"SUM(X9:X25)","v":0},null,null,{"$f":"SUM(AA9:AA25)","v":0}]
["Orders in  by 2:00 PM",null,null,null,null,null,null,null,null,null,null,"Other Special Comments"]
["Lead Times (Expedited):",null,null,null,null,"Rush Charges:",null,null,null,null,null,null,null,null,null,null,"Confirmation Information"]
["   3 Days for pick & pull parts",null,null,null,null,"2 Day = 75% Up Charge",null,"1 Day = 100% up charge",null,null,null,null,null,null,null,null,"  Customer Acceptance Signature: ________________________"]
["   5 Days for finished windows using stock parts",null,null,null,null,"n/a",null,"n/a",null,null,null,null,null,null,null,null,"  Fax to: (651) 464-6191",null,null,null,null,null," Date: ______________"]
["   7 Days for finished windows with custom parts",null,null,null,null,"n/a",null,"n/a",null,null,null,null,null,null,null,null,"  or Email: CustomerService@WDICustomWood.com"]
[null,null,12,null,null,null,null,null,null,null,null,null,null,null,null,null,"   THIS ORDER WILL BE ENTERED INTO WDI PRODUCTION"]
[{"$f":"+Revisions!A34","v":"v2302Feb - Mfg"},null,{"$f":"+AF3","v":0.51500000000000001},{"$f":"+AF2","v":"W"},null,null,null,null,null,null,null,null,null,null,null,null,"   SCHEDULE ON RECEIPT OF SIGNED CONFIRMATION"]
[null,null,null,null,null,null,null,null,null,null,null,null,null,null,null,null,null,null,null,null,null,null,null,null,null,null,null,null,""]
[]
[]
[]
[{"$f":"+A8","v":1},{"$f":"+B8","v":2},{"$f":"+C8","v":3},null,null,null,{"$f":"+G8","v":4},5,6,8,9,0,10,11,0,12,13,14,0,0,0,0,16,17,0,0,16,0,19,20,0,0,0,8,6,0,0,0,0,0]
[null,null,null,null,null,null,null,null,null,null,null,null,null,null,null,null,null,null,null,null,null,null,"$$/U.I:",{"$f":"+X40/6","v":{"$error":"#DIV/0!"}}]
[null,null,null,null,null,null,"Stool calls out stool vs bottom casing",null,null,null,null,null,null,null,null,null,null,null,null,null,null,null,"$$/lft:",{"$f":"+X26/Q41","v":{"$error":"#DIV/0!"}}]
[null,null,null,null,null,null,"Door eliminates bottom jamb & casing",null,null,null,null,null,null,null,null,null,{"$f":"+Q26/6","v":0},"lft pricing",null,null,null,null,"$$/Window",{"$f":"+X26/I5","v":0}]
[null,null,null,null,null,null,"Header calls out 3 sides of casing & cut to same reveal",null,null,null,null,null,null,null,null,null,null,null,null,null,null,null,"lft/Window",{"$f":"+Q41/I5","v":0}]
[null,null,null,null,null,null,"Round calls out amounts at zero -> custom calculations"]
[null,null,null,null,null,null,null,null,null,null,null,null,null,null,null,null,null,null,null,null,null,null,{"$f":"+#REF!","v":{"$error":"#REF!"}},{"$f":"+#REF!","v":{"$error":"#REF!"}}]
[null,null,null,null,null,null,null,null,null,null,null,null,null,null,null,null,null,null,null,null,null,null,{"$f":"+#REF!","v":{"$error":"#REF!"}},{"$f":"+#REF!","v":{"$error":"#REF!"}}]
[null,null,null,null,null,null,null,null,null,null,null,null,null,null,null,null,null,null,null,null,null,null,{"$f":"+#REF!","v":{"$error":"#REF!"}},{"$f":"+#REF!","v":{"$error":"#REF!"}}]

{"sheet":"OSC_Calcs","index":1,"n_rows":31,"n_cols":52,"rows_kept":31,"cut":false,"hidden":false,"merged":[[5,3,6,3]]}
["WDI Company - Window Box Order Form",null,null,null,null,null,"CALCULATIONS FOR OUTSIDE OF CASING / BOX SIZE",null,null,null,null,null,null,null,null,null,null,null,"",null,null,null,null,null,null,null,null,null,null,null,null,null,null,null,null,null,null,null,null,null,null,null,null,null,null,null,null,null,null,"Window OSC =  OSC","Door OSC =  OSC","Window OSC =  OSC"]
[null,"Job Name:",{"$f":"+#REF!","v":{"$error":"#REF!"}},null,null,null,null,null,null,null,null,null,"Enter in green areas only",null,null,null,null,null,null,null,null,null,null,null,null,null,null,null,null,null,null,null,null,null,null,null,null,null,null,null,null,null,null,null,null,null,null,null,null,"-2 x casing","-1 x casing","-1 x casing"]
[null,"CRI PO #:",{"$f":"+#REF!","v":{"$error":"#REF!"}},null,null,null,null,null,null,null,null,null,null,"H=Header",null,null,null,null,null,null,null,null,null,null,null,null,null,null,null,null,null,null,null,null,null,null,null,null,null,null,null,null,null,null,null,null,null,null,null,"-2 x reveal","-1 x reveal","-1 x reveal"]
[null,"Ordered By:",{"$f":"+#REF!","v":{"$error":"#REF!"}},null,null,null,null,null,null,null,null,null,null,null,null,null,null,null,null,null,null,null,null,null,null,null,null,null,null,null,null,null,null,null,null,null,null,null,null,null,null,null,null,null,null,null,null,null,null,"+2 x jamb (5/8\")","+1 x jamb (5/8\")","+1 x jamb (5/8\")"]
[null,"WDI Job #",{"$f":"+#REF!","v":{"$error":"#REF!"}},null,null,null,null,null,null,null,null,null,"Outside of Casing",null,null,null,null,null,null,null,null,null,null,null,null,null,null,null,null,null,null,null,null,null,null,null,null,null,null,null,null,null,null,null,null,null,null,null,null,"= NET BOX","= NET BOX","= NET BOX"]
[null,"Box Size (O.D.)",null,"Type","Jamb","Jamb Depth","Profile #","Casing","Casing","Stop/Mull","Casing","Notes",null,"W","D","S",null,null,null,null,null,null,null,null,null,null,null,null,null,null,null,null,null,null,null,null,null,null,null,null,null,null,null,null,null,null,null,null,null,null,"No Dado","Dado bottom, check apron, mfg stool"]
["#","Width","Height",null,"Species","From I.S of Window","(WDI #113, #115, #118, etc.)","Species","Width","Profile #","Color","Descriptions","Width","Height - Standard Window","Height - Door - OSC to floor","Height - OSC to bottom of stool",null,null,null,null,null,null,null,null,null,null,null,null,null,null,null,null,null,null,null,null,null,null,null,null,null,null,null,null,null,null,"Reveal",null,null,{"$f":"+N6","v":"W"},{"$f":"+O6","v":"D"},{"$f":"+P6","v":"S"}]
[1,2,3,null,4,5,6,7,8,9,10,11,2,3,null,null,12,18,19,null,null,null,null,null,null,null,null,null,null,null,null,null,null,null,null,null,null,null,null,null,null,null,null,null,20]
[1,{"$f":"IF(+I9=0,\"\",+M9-2*I9-0.375+1.25)","v":20.375},{"$f":"IF(I9=\"\",\"\",IF(+D9=\"W\",+AX9,+IF(+D9=\"D\",+AY9,+IF(+D9=\"S\",+AZ9,\"Err\"))))","v":57.375},"W",null,null,null,null,3.25,null,null,null,26,63,null,null,null,null,null,null,null,null,null,null,null,null,null,null,null,null,null,null,null,null,null,null,null,null,null,null,null,null,null,null,null,null,{"$f":"3/16","v":0.1875},null,null,{"$f":"+N9-(2*I9)-(2*AU9)+(2*0.625)","v":57.375},{"$f":"+O9-I9-AU9+0.625","v":-2.8125},{"$f":"+P9-I9-AU9+0.625","v":-2.8125}]
[2,{"$f":"IF(+I10=0,\"\",+M10-2*I10-0.375+1.25)","v":""},{"$f":"IF(I10=\"\",\"\",IF(+D10=\"W\",+AX10,+IF(+D10=\"D\",+AY10,+IF(+D10=\"S\",+AZ10,\"Err\"))))","v":""},"W",null,null,null,null,null,null,null,null,null,null,null,null,null,null,null,null,null,null,null,null,null,null,null,null,null,null,null,null,null,null,null,null,null,null,null,null,null,null,null,null,null,null,{"$f":"+AU9","v":0.1875},null,null,{"$f":"+N10-(2*I10)-(2*AU10)+(2*0.625)","v":0.875},{"$f":"+O10-I10-AU10+0.625","v":0.4375},{"$f":"+P10-I10-AU10+0.625","v":0.4375}]
[3,"","","W",null,null,null,null,null,null,null,null,null,null,null,null,null,null,null,null,null,null,null,null,null,null,null,null,null,null,null,null,null,null,null,null,null,null,null,null,null,null,null,null,null,null,{"$f":"+AU10","v":0.1875},null,null,0.875,0.4375,0.4375]
[4,"","","S",null,null,null,null,null,null,null,null,null,null,null,null,null,null,null,null,null,null,null,null,null,null,null,null,null,null,null,null,null,null,null,null,null,null,null,null,null,null,null,null,null,null,0.1875,null,null,0.875,0.4375,0.4375]
[5,"","","W",null,null,null,null,null,null,null,null,null,null,null,null,null,null,null,null,null,null,null,null,null,null,null,null,null,null,null,null,null,null,null,null,null,null,null,null,null,null,null,null,null,null,0.1875,null,null,0.875,0.4375,0.4375]
[6,"","","W",null,null,null,null,null,null,null,null,null,null,null,null,null,null,null,null,null,null,null,null,null,null,null,null,null,null,null,null,null,null,null,null,null,null,null,null,null,null,null,null,null,null,0.1875,null,null,0.875,0.4375,0.4375]
[7,"","","W",null,null,null,null,null,null,null,null,null,null,null,null,null,null,null,null,null,null,null,null,null,null,null,null,null,null,null,null,null,null,null,null,null,null,null,null,null,null,null,null,null,null,0.1875,null,null,0.875,0.4375,0.4375]
[8,"","","W",null,null,null,null,null,null,null,null,null,null,null,null,null,null,null,null,null,null,null,null,null,null,null,null,null,null,null,null,null,null,null,null,null,null,null,null,null,null,null,null,null,null,0.1875,null,null,0.875,0.4375,0.4375]
[9,"","","W",null,null,null,null,null,null,null,null,null,null,null,null,null,null,null,null,null,null,null,null,null,null,null,null,null,null,null,null,null,null,null,null,null,null,null,null,null,null,null,null,null,null,0.1875,null,null,0.875,0.4375,0.4375]
[10,{"$f":"IF(+I18=0,\"\",+M18-2*I18-0.375+1.25)","v":""},{"$f":"IF(I18=\"\",\"\",IF(+D18=\"W\",+AX18,+IF(+D18=\"D\",+AY18,+IF(+D18=\"S\",+AZ18,\"Err\"))))","v":""},"W",null,null,null,null,null,null,null,null,null,null,null,null,null,null,null,null,null,null,null,null,null,null,null,null,null,null,null,null,null,null,null,null,null,null,null,null,null,null,null,null,null,null,{"$f":"+AU17","v":0.1875},null,null,{"$f":"+N18-(2*I18)-(2*AU18)+(2*0.625)","v":0.875},{"$f":"+O18-I18-AU18+0.625","v":0.4375},{"$f":"+P18-I18-AU18+0.625","v":0.4375}]
[11,"","","W",null,null,null,null,null,null,null,null,null,null,null,null,null,null,null,null,null,null,null,null,null,null,null,null,null,null,null,null,null,null,null,null,null,null,null,null,null,null,null,null,null,null,0.1875,null,null,0.875,0.4375,0.4375]
[12,"","","W",null,null,null,null,null,null,null,null,null,null,null,null,null,null,null,null,null,null,null,null,null,null,null,null,null,null,null,null,null,null,null,null,null,null,null,null,null,null,null,null,null,null,0.1875,null,null,0.875,0.4375,0.4375]
[13,"","","W",null,null,null,null,null,null,null,null,null,null,null,null,null,null,null,null,null,null,null,null,null,null,null,null,null,null,null,null,null,null,null,null,null,null,null,null,null,null,null,null,null,null,0.1875,null,null,0.875,0.4375,0.4375]
[14,"","","W",null,null,null,null,null,null,null,null,null,null,null,null,null,null,null,null,null,null,null,null,null,null,null,null,null,null,null,null,null,null,null,null,null,null,null,null,null,null,null,null,null,null,0.1875,null,null,0.875,0.4375,0.4375]
[15,"","","W",null,null,null,null,null,null,null,null,null,null,null,null,null,null,null,null,null,null,null,null,null,null,null,null,null,null,null,null,null,null,null,null,null,null,null,null,null,null,null,null,null,null,0.1875,null,null,0.875,0.4375,0.4375]
[null,null,null,{"$f":"+#REF!","v":{"$error":"#REF!"}},null,null,null,null,null,null,null,null,null,null,null,null,null,null,""]
[]
[]
[]
[null,null,null,null,"Stool calls out stool vs bottom casing"]
[null,null,null,null,"Door eliminates bottom jamb & casing"]
[null,null,null,null,"Header calls out 3 sides of casing & cut to same reveal"]
[null,null,null,null,"Round calls out amounts at zero -> custom calculations"]

{"sheet":"Octagon_Template","index":2,"n_rows":30,"n_cols":65,"rows_kept":30,"cut":false,"hidden":false,"merged":[]}
["Calculations for Octagon Windows",null,null,null,"Job Name:",{"$f":"+WDI_Standard_Order_Form!C2","v":0},null,null,"Ordered By:",{"$f":"+WDI_Standard_Order_Form!C4","v":0},null,null,null,null,null,null,null,null,null,null,null,null,null,"WDI Company - Window Box Order Form"]
[null,null,null,null,"PO #:",{"$f":"+WDI_Standard_Order_Form!C3","v":0},null,null,"WDI Job #",{"$f":"+WDI_Standard_Order_Form!C5","v":0}]
[null,"Fill in the green shaded area:",null,null,null,null,null,null,null,null,null,null,null,null,null,null,null,null,null,null,null,null,null,null,"Job Name:",{"$f":"+WDI_Standard_Order_Form!C2","v":0}]
[null,null,null,null,null,null,"Cut Angle is 22.5o   ",null,null,null,null,null,null,null,null,null,null,null,null,null,null,null,null,null,"PO #:",{"$f":"+WDI_Standard_Order_Form!C3","v":0},null,null,null,null,null,null,null,null,null,null,null,null,null,"Box",null,"Jamb Width","Jamb Height",null,"Thickness",null,null,null,null,null,"Diameter","Casing Width","Casing Height","Stop Width","Stop Height",null,null,null,null,null,"Segment",null,"PI=",{"$f":"PI()","v":3.1415926535897931}]
[null,"Information","Key from chart @ right",null,null,null,null,null,null,null,null,null,null,null,null,null,null,null,null,null,null,null,null,null,"Ordered By:",{"$f":"+WDI_Standard_Order_Form!C4","v":0},null,null,null,null,null,null,null,null,"Calcs:","OS Box Width","OS Box Height","Casing width",null,"DIAMETER","MAX","SEGMENT LENGTH","SEGMENT LENGTH",null,"Jambs x 2","IS Box","Reveal x 2:","IS Casing Width","IS Casing Height","Casing x 2:","OS Casing","SEGMENT LENGTH","SEGMENT LENGTH","SEGMENT LENGTH","SEGMENT LENGTH",null,"Radius","Circum.","# pcs",null,"Lengths"]
[null,"Outside of Octagon box (A):",{"$f":"+AJ9","v":0},null,null,null,null,null,null,null,null,null,null,null,null,null,null,null,null,null,null,null,null,null,"WDI Job #",{"$f":"+WDI_Standard_Order_Form!C5","v":0},null,null,null,null,null,null,null,null,null,null,null,null,null,null,null,null,null,null,null,null,null,null,null,null,null,null,null,null,null,null,null,null,null,null,null,null,"Radians of 22.5o",{"$f":"RADIANS(22.5)","v":0.39269908169872414},"for octagonal cuts"]
[null,"Outside of Long side Octagon box (B):",{"$f":"+AK9","v":0},{"$f":"+C7-C6","v":0},null,null,null,null,null,null,null,null,null,null,null,null,null,null,null,null,null,null,null,null,"Box Size (O.D.)",null," Opening Type","Casing",null,null,null,null,null,null,null,null,null,null,null,null,null,null,null,null,null,null,null,null,null,null,null,null,null,null,null,null,null,null,null,null,null,null,"COS(22.5)",{"$f":"COS(BL6)","v":0.92387953251128674}]
[null,"Casing Width:",{"$f":"+AB9","v":0},null,null,null,null,null,null,null,null,null,null,null,null,null,null,null,null,null,null,null,null,"#","Width","Height",null,"Width"]
[null,null,null,null,null,null,null,null,null,null,null,null,null,null,null,null,null,null,null,null,null,null,null,{"$f":"+WDI_Standard_Order_Form!A9","v":1},{"$f":"+WDI_Standard_Order_Form!B9","v":0},{"$f":"+WDI_Standard_Order_Form!C9","v":0},{"$f":"+WDI_Standard_Order_Form!D9","v":"W"},{"$f":"+WDI_Standard_Order_Form!J9","v":0},null,null,null,null,null,null,"Line 1a",{"$f":"+Y9","v":0},{"$f":"+Z9","v":0},{"$f":"+AB9","v":0},null,{"$f":"+AJ9","v":0},{"$f":"SQRT((AP9/2)^2+BE9^2)*2","v":0},{"$f":"+(AN9/2)*$BL$11*2","v":0},{"$f":"+(AK9-AJ9)+AP9","v":0},null,{"$f":"-$C$24*2","v":-1.25},{"$f":"+AS9+AJ9","v":-1.25},{"$f":"+$C$25*2","v":0.375},{"$f":"+AU9+AT9","v":-0.875},{"$f":"+AK9-AJ9+AV9","v":-0.875},{"$f":"+AL9*2","v":0},{"$f":"+AX9+AV9","v":-0.875},{"$f":"+(AY9/2)*$BL$11*2","v":-0.36243686707645817},{"$f":"+AK9-AJ9+AZ9","v":-0.36243686707645817},{"$f":"+(AT9/2)*$BL$11*2","v":-0.51776695296636877},{"$f":"+AK9-AJ9+BB9","v":-0.51776695296636877},null,{"$f":"+AN9/2","v":0},{"$f":"++AN9*$BL$4","v":0},6,null,null,null,"SIN(22.5)",{"$f":"SIN(BL6)","v":0.38268343236508978}]
[null,null,null,null,null,null,null,null,null,null,null,null,null,null,null,null,null,null,null,null,null,null,null,{"$f":"+WDI_Standard_Order_Form!A10","v":2},{"$f":"+WDI_Standard_Order_Form!B10","v":0},{"$f":"+WDI_Standard_Order_Form!C10","v":0},{"$f":"+WDI_Standard_Order_Form!D10","v":"W"},{"$f":"+WDI_Standard_Order_Form!J10","v":0},null,null,null,null,null,null,"Line 2a",0,0,{"$f":"+WDI_Standard_Order_Form!J10","v":0},null,{"$f":"+AJ10","v":0},{"$f":"SQRT((AP10/2)^2+BE10^2)*2","v":0},0,0,null,{"$f":"-$C$24*2","v":-1.25},{"$f":"+AS10+AJ10","v":-1.25},{"$f":"+$C$25*2","v":0.375},{"$f":"+AU10+AT10","v":-0.875},-0.875,0,{"$f":"+AX10+AV10","v":-0.875},-0.36243686707645817,-0.36243686707645817,-0.51776695296636877,-0.51776695296636877,null,{"$f":"+AN10/2","v":0},{"$f":"++AN10*$BL$4","v":0},6]
[null,null,null,null,null,null,null,null,null,null,null,null,null,null,null,null,null,null,null,null,null,null,null,{"$f":"+WDI_Standard_Order_Form!A11","v":3},23,{"$f":"+Z10+0.5","v":0.5},{"$f":"+AA10","v":"W"},2.5,null,null,null,null,null,null,"Line 3a",23,0.5,{"$f":"+AB11","v":2.5},null,23,24.895020606725062,9.5269119345811859,-12.973088065418814,null,-1.25,21.75,0.375,{"$f":"+AU11+AT11","v":22.125},-0.375,5,27.125,11.235542879370202,-11.264457120629798,9.009144981614817,-13.490855018385183,null,11.5,72.256631032565238,6,null,null,null,"TAN(22.5)",{"$f":"TAN(BL6)","v":0.41421356237309503}]
[null,null,null,null,null,null,null,null,null,null,null,null,null,null,null,null,null,null,null,null,null,null,null,{"$f":"+WDI_Standard_Order_Form!A12","v":4},24,{"$f":"+Z11+0.5","v":1},{"$f":"+AA11","v":"W"},{"$f":"+AB11","v":2.5},null,null,null,null,null,null,"Line 4a",24,1,2.5,null,24,25.977412807017455,9.9411254969542817,-13.058874503045718,null,-1.25,22.75,0.375,23.125,0.125,5,28.125,11.649756441743298,-11.350243558256702,9.4233585439879128,-13.576641456012087,null,12,75.398223686155035,6]
[null,null,null,null,null,null,null,null,null,null,null,null,null,null,null,null,null,null,null,null,null,null,null,{"$f":"+WDI_Standard_Order_Form!A13","v":5},25,1.5,"W",{"$f":"+AB12","v":2.5},null,null,null,null,null,null,"Line 5a",25,1.5,2.5,null,25,27.059805007309851,10.355339059327376,-13.144660940672624,null,-1.25,23.75,0.375,24.125,0.625,5,29.125,12.063970004116394,-11.436029995883606,9.8375721063610069,-13.662427893638993,null,12.5,78.539816339744831,6,null,null,null,"COS = Adj / Hyp"]
[null,"Jamb length (tip to tip):",{"$f":"+AP9","v":0},null,null,null,null,null,null,null,null,null,null,null,null,null,null,null,null,null,null,null,null,{"$f":"+WDI_Standard_Order_Form!A14","v":6},25.5,2,"W",2.5,null,null,null,null,null,null,"Line 6a",25.5,2,2.5,null,25.5,27.601001107456046,10.562445840513924,-12.937554159486076,null,-1.25,24.25,0.375,24.625,1.125,5,29.625,12.27107678530294,-11.22892321469706,10.044678887547555,-13.455321112452445,null,12.75,80.110612666539723,6,null,null,null,"TAN = OP / Adj"]
[null,"casing length (tip to tip):",{"$f":"+AZ9","v":-0.36243686707645817},null,null,null,null,null,null,null,null,null,null,null,null,null,null,null,null,null,null,null,null,{"$f":"+WDI_Standard_Order_Form!A15","v":7},26,2.5,"W",2.5,null,null,null,null,null,null,"Line 7a",26,2.5,2.5,null,26,28.142197207602244,10.769552621700472,-12.730447378299528,null,-1.25,24.75,0.375,25.125,1.625,5,30.125,12.478183566489488,-11.021816433510512,10.251785668734103,-13.248214331265897,null,13,81.681408993334628,6,null,null,null,"SIN = OP/Hyp"]
[null,"Stop length (tip to tip):",{"$f":"+BB9","v":-0.51776695296636877},null,null,null,null,null,null,null,null,null,null,null,null,null,null,null,null,null,null,null,null,{"$f":"+WDI_Standard_Order_Form!A16","v":8},26.5,3,"W",2.5,null,null,null,null,null,null,"Line 8a",26.5,3,2.5,null,26.5,28.683393307748439,10.976659402887018,-12.523340597112982,null,-1.25,25.25,0.375,25.625,2.125,5,30.625,12.685290347676036,-10.814709652323964,10.458892449920649,-13.041107550079351,null,13.25,83.252205320129519,6]
[null,null,null,null,null,null,null,null,null,null,null,null,null,null,null,null,null,null,null,null,null,null,null,{"$f":"+WDI_Standard_Order_Form!A17","v":9},27,3.5,"W",2.5,null,null,null,null,null,null,"Line 9a",27,3.5,2.5,null,27,29.224589407894637,11.183766184073566,-12.316233815926434,null,-1.25,25.75,0.375,26.125,2.625,5,31.125,12.892397128862584,-10.607602871137416,10.665999231107197,-12.834000768892803,null,13.5,84.823001646924411,6]
[null,"Long side jamb length (pt to pt):",{"$f":"+C14+$D$7","v":0},null,null,null,null,null,null,null,null,null,null,null,null,null,null,null,null,null,null,null,null,{"$f":"+WDI_Standard_Order_Form!A18","v":10},27.5,4,"W",2.5,null,null,null,null,null,null,"Line 10a",27.5,4,2.5,null,27.5,29.765785508040835,11.390872965260114,-12.109127034739886,null,-1.25,26.25,0.375,26.625,3.125,5,31.625,13.09950391004913,-10.40049608995087,10.873106012293745,-12.626893987706255,null,13.75,86.393797973719316,6]
[null,"Long side casing length (pt to pt):",{"$f":"+C15+$D$7","v":-0.36243686707645817},null,null,null,null,null,null,null,null,null,null,null,null,null,null,null,null,null,null,null,null,{"$f":"+WDI_Standard_Order_Form!A19","v":11},27.5,4.5,"W",2.5,null,null,null,null,null,null,"Line 11a",27.5,4.5,2.5,null,27.5,29.765785508040835,11.390872965260114,-11.609127034739886,null,-1.25,26.25,0.375,26.625,3.625,5,31.625,13.09950391004913,-9.9004960899508703,10.873106012293745,-12.126893987706255,null,13.75,86.393797973719316,6]
[null,"Long side stop length (pt to pt):",{"$f":"+C16+$D$7","v":-0.51776695296636877},null,null,null,null,null,null,null,null,null,null,null,null,null,null,null,null,null,null,null,null,{"$f":"+WDI_Standard_Order_Form!A21","v":1},{"$f":"+WDI_Standard_Order_Form!B21","v":0},{"$f":"+WDI_Standard_Order_Form!C21","v":0},{"$f":"+WDI_Standard_Order_Form!D21","v":"P"},{"$f":"+WDI_Standard_Order_Form!J21","v":0}]
[null,null,null,null,null,null,null,null,null,null,null,null,null,null,null,null,null,null,null,null,null,null,null,{"$f":"+WDI_Standard_Order_Form!A22","v":2},{"$f":"+WDI_Standard_Order_Form!B22","v":0},{"$f":"+WDI_Standard_Order_Form!C22","v":0},{"$f":"+WDI_Standard_Order_Form!D22","v":"P"},{"$f":"+WDI_Standard_Order_Form!J22","v":0}]
[null,null,null,null,null,null,null,null,null,null,null,null,null,null,null,null,null,null,null,null,null,null,null,{"$f":"+WDI_Standard_Order_Form!A23","v":3},{"$f":"+WDI_Standard_Order_Form!B23","v":0},{"$f":"+WDI_Standard_Order_Form!C23","v":0},{"$f":"+WDI_Standard_Order_Form!D23","v":"P"},{"$f":"+WDI_Standard_Order_Form!J23","v":0}]
[null,null,null,null,null,null,null,null,null,null,null,null,null,null,null,null,null,null,null,null,null,null,null,{"$f":"+WDI_Standard_Order_Form!A24","v":4},{"$f":"+WDI_Standard_Order_Form!B24","v":0},{"$f":"+WDI_Standard_Order_Form!C24","v":0},{"$f":"+WDI_Standard_Order_Form!D24","v":"P"},{"$f":"+WDI_Standard_Order_Form!J24","v":0}]
[null,"Jamb thickness:",0.625]
[null,"Casing Reveal:",0.1875]
[]
[null,"Cut @ 22.5 degree angle to Outside of casing length"]
[]
[null,null,null,{"$f":"SUM(D14:D28)","v":0}]
[null,null,null,{"$f":"+D29/12","v":0}]

{"sheet":"Stool_Template","index":3,"n_rows":28,"n_cols":7,"rows_kept":28,"cut":false,"hidden":false,"merged":[]}
["WDI Company - Window Box Stool template",null,null,null,null,null,""]
[]
[]
[]
[]
[]
[]
[]
[]
[]
[]
[]
[]
[]
[]
[]
[]
[]
[]
[]
[]
[]
[]
[]
[]
[]
[]
[null,null,null,null,null,null,""]

{"sheet":"Round_top_Template","index":4,"n_rows":28,"n_cols":7,"rows_kept":28,"cut":false,"hidden":false,"merged":[]}
["WDI Company - Window Round Top template",null,null,null,null,null,""]
[]
[]
[]
[]
[]
[]
[]
[]
[]
[]
[]
[]
[]
[]
[]
[]
[]
[]
[]
[]
[]
[]
[]
[]
[]
[]
[null,null,null,null,null,null,""]

{"sheet":"Round_top_Template_Extended","index":5,"n_rows":28,"n_cols":7,"rows_kept":28,"cut":false,"hidden":false,"merged":[]}
["WDI Company - Window Extended Round Top template",null,null,null,null,null,""]
[]
[]
[]
[]
[]
[]
[]
[]
[]
[]
[]
[]
[]
[]
[]
[]
[]
[]
[]
[]
[]
[]
[]
[]
[]
[]
[null,null,null,null,null,null,""]

{"sheet":"Trapezoid_Template","index":6,"n_rows":8,"n_cols":29,"rows_kept":8,"cut":false,"hidden":false,"merged":[]}
["Trapezoid Calcs"]
[null,null,null,null,null,null,null,null,null,null,null,null,null,null,null,null,null,null,null,null,null,null,null,null,"Length","Angle","Angle","Hyp","Less Jamb"]
[null,null,null,null,null,null,null,null,null,null,null,null,null,null,null,null,null,null,null,null,null,null,null,null,"E","e","f","Length","Length"]
[null,null,null,null,null,null,null,null,null,null,null,null,null,null,null,null,null,null,null,null,null,null,null,null,{"$f":"+D4-B4","v":0},{"$f":"DEGREES(ATAN(Y4/C4))","v":{"$error":"#DIV/0!"}},{"$f":"90-Z4","v":{"$error":"#DIV/0!"}},{"$f":"+SQRT(C4*C4+Y4*Y4)","v":0}]
[]
[]
[]
[null,"Cut top - glue & screw together"]

{"sheet":"Price_Matrix","index":7,"n_rows":124,"n_cols":20,"rows_kept":124,"cut":false,"hidden":false,"merged":[]}
["2023-01-20",null,"Feb '23 Window Pricing Effect: 2/5/23"]
[null,null,"Unit Inches",0,{"$f":"+D3","v":36},{"$f":"+E3","v":48},60,72,84,96,108,120,132,144,156,168]
[null,null,"Unit Inches",36,48,60,72,84,96,108,120,132,144,156,168,5000]
[null,"Window","2/5/23 CRI Price",93.68,97.42,101.33,108.8,125.4,136.87,152.01,166.95,181.53,195.51,209.25,222.61,1.52,null,"Effective with orders placed on or after 1/1/22"]
[null,"Window","2/5/23 WDI Price",189.62,193.1,200.51,231.5,267.02999999999997,288.61,324.04000000000002,355.64,386.48,416.56,445.92,474.19,2.88,null,"Effective with orders placed on or after 1/1/22"]
[null,"Stop","2/5/23 CRI Price 1.25\"",0.16,{"$f":"+D6","v":0.16},{"$f":"+E6","v":0.16},0.16,0.16,0.16,0.16,0.16,0.16,0.16,0.16,0.16,0.16]
[null,null,"2/5/23 CRI Price 2\"",0.22,{"$f":"+D7","v":0.22},0.22,0.22,0.22,0.22,0.22,0.22,0.22,0.22,0.22,0.22,0.22]
[null,null,"2/5/23 CRI Price 3\"",0.46,{"$f":"+D8","v":0.46},0.46,0.46,0.46,0.46,0.46,0.46,0.46,0.46,0.46,0.46,0.46]
[null,"Stop","2/5/23 WDI Price 1.25\"",0.3,{"$f":"+D9","v":0.3},0.3,0.3,0.3,0.3,0.3,0.3,0.3,0.3,0.3,0.3,0.3]
[null,null,"2/5/23 WDI Price 2\"",0.42,{"$f":"+D10","v":0.42},0.42,0.42,0.42,0.42,0.42,0.42,0.42,0.42,0.42,0.42,0.42]
[null,null,"2/5/23 WDI Price 3\"",0.78,{"$f":"+D11","v":0.78},0.78,0.78,0.78,0.78,0.78,0.78,0.78,0.78,0.78,0.78,0.78]
[]
[null,"Line","Size"]
[null,1,"Round up to Integer:",{"$f":"IF(+$C54>+INT($C54),INT(+$C54+1),+$C54)","v":0},0,0,0,0,0,0,0,0,0,0,0,0]
[null,2,"Round up to Integer:",{"$f":"IF(+$C55>+INT($C55),INT(+$C55+1),+$C55)","v":0},0,0,0,0,0,0,0,0,0,0,0,0]
[null,3,"Round up to Integer:",{"$f":"IF(+$C56>+INT($C56),INT(+$C56+1),+$C56)","v":0},0,0,0,0,0,0,0,0,0,0,0,0]
[null,4,"Round up to Integer:",{"$f":"IF(+$C57>+INT($C57),INT(+$C57+1),+$C57)","v":0},0,0,0,0,0,0,0,0,0,0,0,0]
[null,5,"Round up to Integer:",{"$f":"IF(+$C58>+INT($C58),INT(+$C58+1),+$C58)","v":0},0,0,0,0,0,0,0,0,0,0,0,0]
[null,6,"Round up to Integer:",{"$f":"IF(+$C59>+INT($C59),INT(+$C59+1),+$C59)","v":0},0,0,0,0,0,0,0,0,0,0,0,0]
[null,7,"Round up to Integer:",{"$f":"IF(+$C60>+INT($C60),INT(+$C60+1),+$C60)","v":0},0,0,0,0,0,0,0,0,0,0,0,0]
[null,8,"Round up to Integer:",{"$f":"IF(+$C61>+INT($C61),INT(+$C61+1),+$C61)","v":0},0,0,0,0,0,0,0,0,0,0,0,0]
[null,9,"Round up to Integer:",{"$f":"IF(+$C62>+INT($C62),INT(+$C62+1),+$C62)","v":0},0,0,0,0,0,0,0,0,0,0,0,0]
[null,10,"Round up to Integer:",{"$f":"IF(+$C63>+INT($C63),INT(+$C63+1),+$C63)","v":0},0,0,0,0,0,0,0,0,0,0,0,0]
[null,11,"Round up to Integer:",{"$f":"IF(+$C64>+INT($C64),INT(+$C64+1),+$C64)","v":0},0,0,0,0,0,0,0,0,0,0,0,0]
[]
[]
[null,"Line","Size"]
[null,1,"Stop length:",{"$f":"+D14","v":0},{"$f":"+E14","v":0},0,0,0,0,0,0,0,0,0,0,0]
[null,2,"Integer:",{"$f":"+D15","v":0},0,0,0,0,0,0,0,0,0,0,0,0]
[null,3,"Integer:",{"$f":"+D16","v":0},0,0,0,0,0,0,0,0,0,0,0,0]
[null,4,"Integer:",{"$f":"+D17","v":0},0,0,0,0,0,0,0,0,0,0,0,0]
[null,5,"Integer:",{"$f":"+D18","v":0},0,0,0,0,0,0,0,0,0,0,0,0]
[null,6,"Integer:",{"$f":"+D19","v":0},0,0,0,0,0,0,0,0,0,0,0,0]
[null,7,"Integer:",{"$f":"+D20","v":0},0,0,0,0,0,0,0,0,0,0,0,0]
[null,8,"Integer:",{"$f":"+D21","v":0},0,0,0,0,0,0,0,0,0,0,0,0]
[null,9,"Integer:",{"$f":"+D22","v":0},0,0,0,0,0,0,0,0,0,0,0,0]
[null,10,"Integer:",{"$f":"+D23","v":0},0,0,0,0,0,0,0,0,0,0,0,0]
[null,11,"Integer:",{"$f":"+D24","v":0},0,0,0,0,0,0,0,0,0,0,0,0]
[]
[null,null,"WTK size category"]
[null,1,"True/False",{"$f":"IF(D14>D$2,IF(D14<=D$3,1,0),0)","v":0},0,0,0,0,0,0,0,0,0,0,0,0]
[null,2,"True/False",{"$f":"IF(D15>D$2,IF(D15<=D$3,1,0),0)","v":0},0,0,0,0,0,0,0,0,0,0,0,0]
[null,3,"True/False",{"$f":"IF(D16>D$2,IF(D16<=D$3,1,0),0)","v":0},0,0,0,0,0,0,0,0,0,0,0,0]
[null,4,"True/False",{"$f":"IF(D17>D$2,IF(D17<=D$3,1,0),0)","v":0},0,0,0,0,0,0,0,0,0,0,0,0]
[null,5,"True/False",{"$f":"IF(D18>D$2,IF(D18<=D$3,1,0),0)","v":0},0,0,0,0,0,0,0,0,0,0,0,0]
[null,6,"True/False",{"$f":"IF(D19>D$2,IF(D19<=D$3,1,0),0)","v":0},0,0,0,0,0,0,0,0,0,0,0,0]
[null,7,"True/False",{"$f":"IF(D20>D$2,IF(D20<=D$3,1,0),0)","v":0},0,0,0,0,0,0,0,0,0,0,0,0]
[null,8,"True/False",{"$f":"IF(D21>D$2,IF(D21<=D$3,1,0),0)","v":0},0,0,0,0,0,0,0,0,0,0,0,0]
[null,9,"True/False",{"$f":"IF(D22>D$2,IF(D22<=D$3,1,0),0)","v":0},0,0,0,0,0,0,0,0,0,0,0,0]
[null,10,"True/False",{"$f":"IF(D23>D$2,IF(D23<=D$3,1,0),0)","v":0},0,0,0,0,0,0,0,0,0,0,0,0]
[null,11,"True/False",{"$f":"IF(D24>D$2,IF(D24<=D$3,1,0),0)","v":0},0,0,0,0,0,0,0,0,0,0,0,0]
["Factor",null,null,null,null,null,null,null,null,null,null,null,null,null,null,null,null,"LIST","Casing &","Factored"]
[{"$f":"+WDI_Standard_Order_Form!AF2","v":"W"},null,"UI - Price for \"W\" & \"D\", White",{"$f":"IF($A53=\"W\",+D5,IF($A53=\"C\",+D4,0))","v":189.62},193.1,200.51,231.5,267.02999999999997,288.61,324.04000000000002,355.64,386.48,416.56,445.92,474.19,2.88,null,"PRICE","White?","Price"]
[{"$f":"IF($A$53=\"W\",+WDI_Standard_Order_Form!$AF$3,1)","v":0.51500000000000001},1,{"$f":"IF(WDI_Standard_Order_Form!D9=\"W\",+WDI_Standard_Order_Form!Q9,IF(WDI_Standard_Order_Form!D9=\"D\",+WDI_Standard_Order_Form!Q9,0))","v":0},{"$f":"+D41*D$53","v":0},{"$f":"+E41*E$53","v":0},0,0,0,0,0,0,0,0,0,0,{"$f":"+P41*P$53*P14","v":0},null,{"$f":"SUM(D54:Q54)","v":0},{"$f":"IF(WDI_Standard_Order_Form!M9=75,1.15,1)*R114","v":0},{"$f":"+R54*A54*S54","v":0}]
[{"$f":"IF($A$53=\"W\",+WDI_Standard_Order_Form!$AF$3,1)","v":0.51500000000000001},2,{"$f":"IF(WDI_Standard_Order_Form!D10=\"W\",+WDI_Standard_Order_Form!Q10,IF(WDI_Standard_Order_Form!D10=\"D\",+WDI_Standard_Order_Form!Q10,0))","v":0},{"$f":"+D42*D$53","v":0},0,0,0,0,0,0,0,0,0,0,0,0,null,{"$f":"SUM(D55:Q55)","v":0},{"$f":"IF(WDI_Standard_Order_Form!M10=75,1.15,1)*R115","v":0},0]
[{"$f":"IF($A$53=\"W\",+WDI_Standard_Order_Form!$AF$3,1)","v":0.51500000000000001},3,{"$f":"IF(WDI_Standard_Order_Form!D11=\"W\",+WDI_Standard_Order_Form!Q11,IF(WDI_Standard_Order_Form!D11=\"D\",+WDI_Standard_Order_Form!Q11,0))","v":0},{"$f":"+D43*D$53","v":0},0,0,0,0,0,0,0,0,0,0,0,0,null,0,{"$f":"IF(WDI_Standard_Order_Form!M11=75,1.15,1)*R116","v":0},0]
[{"$f":"IF($A$53=\"W\",+WDI_Standard_Order_Form!$AF$3,1)","v":0.51500000000000001},4,{"$f":"IF(WDI_Standard_Order_Form!D12=\"W\",+WDI_Standard_Order_Form!Q12,IF(WDI_Standard_Order_Form!D12=\"D\",+WDI_Standard_Order_Form!Q12,0))","v":0},{"$f":"+D44*D$53","v":0},0,0,0,0,0,0,0,0,0,0,0,0,null,0,{"$f":"IF(WDI_Standard_Order_Form!M12=75,1.15,1)*R117","v":0},0]
[{"$f":"IF($A$53=\"W\",+WDI_Standard_Order_Form!$AF$3,1)","v":0.51500000000000001},5,{"$f":"IF(WDI_Standard_Order_Form!D13=\"W\",+WDI_Standard_Order_Form!Q13,IF(WDI_Standard_Order_Form!D13=\"D\",+WDI_Standard_Order_Form!Q13,0))","v":0},{"$f":"+D45*D$53","v":0},0,0,0,0,0,0,0,0,0,0,0,0,null,0,{"$f":"IF(WDI_Standard_Order_Form!M13=75,1.15,1)*R118","v":0},0]
[{"$f":"IF($A$53=\"W\",+WDI_Standard_Order_Form!$AF$3,1)","v":0.51500000000000001},6,{"$f":"IF(WDI_Standard_Order_Form!D14=\"W\",+WDI_Standard_Order_Form!Q14,IF(WDI_Standard_Order_Form!D14=\"D\",+WDI_Standard_Order_Form!Q14,0))","v":0},{"$f":"+D46*D$53","v":0},0,0,0,0,0,0,0,0,0,0,0,0,null,0,{"$f":"IF(WDI_Standard_Order_Form!M14=75,1.15,1)*R119","v":0},0]
[{"$f":"IF($A$53=\"W\",+WDI_Standard_Order_Form!$AF$3,1)","v":0.51500000000000001},7,{"$f":"IF(WDI_Standard_Order_Form!D15=\"W\",+WDI_Standard_Order_Form!Q15,IF(WDI_Standard_Order_Form!D15=\"D\",+WDI_Standard_Order_Form!Q15,0))","v":0},{"$f":"+D47*D$53","v":0},0,0,0,0,0,0,0,0,0,0,0,0,null,0,{"$f":"IF(WDI_Standard_Order_Form!M15=75,1.15,1)*R120","v":0},0]
[{"$f":"IF($A$53=\"W\",+WDI_Standard_Order_Form!$AF$3,1)","v":0.51500000000000001},8,{"$f":"IF(WDI_Standard_Order_Form!D16=\"W\",+WDI_Standard_Order_Form!Q16,IF(WDI_Standard_Order_Form!D16=\"D\",+WDI_Standard_Order_Form!Q16,0))","v":0},{"$f":"+D48*D$53","v":0},0,0,0,0,0,0,0,0,0,0,0,0,null,0,{"$f":"IF(WDI_Standard_Order_Form!M16=75,1.15,1)*R121","v":0},0]
[{"$f":"IF($A$53=\"W\",+WDI_Standard_Order_Form!$AF$3,1)","v":0.51500000000000001},9,{"$f":"IF(WDI_Standard_Order_Form!D17=\"W\",+WDI_Standard_Order_Form!Q17,IF(WDI_Standard_Order_Form!D17=\"D\",+WDI_Standard_Order_Form!Q17,0))","v":0},{"$f":"+D49*D$53","v":0},0,0,0,0,0,0,0,0,0,0,0,0,null,0,{"$f":"IF(WDI_Standard_Order_Form!M17=75,1.15,1)*R122","v":0},0]
[{"$f":"IF($A$53=\"W\",+WDI_Standard_Order_Form!$AF$3,1)","v":0.51500000000000001},10,{"$f":"IF(WDI_Standard_Order_Form!D18=\"W\",+WDI_Standard_Order_Form!Q18,IF(WDI_Standard_Order_Form!D18=\"D\",+WDI_Standard_Order_Form!Q18,0))","v":0},{"$f":"+D50*D$53","v":0},0,0,0,0,0,0,0,0,0,0,0,0,null,0,{"$f":"IF(WDI_Standard_Order_Form!M18=75,1.15,1)*R123","v":0},0]
[{"$f":"IF($A$53=\"W\",+WDI_Standard_Order_Form!$AF$3,1)","v":0.51500000000000001},11,{"$f":"IF(WDI_Standard_Order_Form!D19=\"W\",+WDI_Standard_Order_Form!Q19,IF(WDI_Standard_Order_Form!D19=\"D\",+WDI_Standard_Order_Form!Q19,0))","v":0},{"$f":"+D51*D$53","v":0},0,0,0,0,0,0,0,0,0,0,0,0,null,0,{"$f":"IF(WDI_Standard_Order_Form!M19=75,1.15,1)*R124","v":0},0]
[]
[]
["Factor & White",null,null,null,null,null,null,null,null,null,null,null,null,null,null,null,null,"LIST",null,"Factored"]
[{"$f":"+A53","v":"W"},null,"Stop Width  $$/inch",{"$f":"IF($A68=\"W\",+D20,IF($A68=\"C\",+D19,0))","v":0},null,null,null,null,null,null,null,null,null,null,null,null,null,"PRICE","White?","Price"]
[{"$f":"IF($A$53=\"W\",+WDI_Standard_Order_Form!$AF$3,1)","v":0.51500000000000001},1,{"$f":"+WDI_Standard_Order_Form!L9","v":""},{"$f":"IF($A$68=\"C\",IF($C69<=1.25,+D$6,IF(C69<=2,+D$7,+D$8)),IF($A$68=\"W\",IF($C69<=1.25,+D$9,IF(C69<=2,+D$10,+D$11)),9999))","v":0.78},{"$f":"IF($A$68=\"C\",IF($C69<=1.25,+E$6,IF(D69<=2,+E$7,+E$8)),IF($A$68=\"W\",IF($C69<=1.25,+E$9,IF(D69<=2,+E$10,+E$11)),9999))","v":0.42},0.42,0.42,0.42,0.42,0.42,0.42,0.42,0.42,0.42,0.42,0.42,null,{"$f":"SUM(D69:Q69)","v":5.8199999999999994},{"$f":"IF(WDI_Standard_Order_Form!M9=75,1.15,1)","v":1},{"$f":"+R69*A69*S69","v":2.9972999999999996}]
[{"$f":"IF($A$53=\"W\",+WDI_Standard_Order_Form!$AF$3,1)","v":0.51500000000000001},2,{"$f":"+WDI_Standard_Order_Form!L10","v":""},0.78,{"$f":"IF($A$68=\"C\",IF($C70<=1.25,+E$6,IF(D70<=2,+E$7,+E$8)),IF($A$68=\"W\",IF($C70<=1.25,+E$9,IF(D70<=2,+E$10,+E$11)),9999))","v":0.42},0.42,0.42,0.42,0.42,0.42,0.42,0.42,0.42,0.42,0.42,0.42,null,{"$f":"SUM(D70:Q70)","v":5.8199999999999994},{"$f":"IF(WDI_Standard_Order_Form!M10=75,1.15,1)","v":1},2.9972999999999996]
[{"$f":"IF($A$53=\"W\",+WDI_Standard_Order_Form!$AF$3,1)","v":0.51500000000000001},3,{"$f":"+WDI_Standard_Order_Form!L11","v":""},0.78,{"$f":"IF($A$68=\"C\",IF($C71<=1.25,+E$6,IF(D71<=2,+E$7,+E$8)),IF($A$68=\"W\",IF($C71<=1.25,+E$9,IF(D71<=2,+E$10,+E$11)),9999))","v":0.42},0.42,0.42,0.42,0.42,0.42,0.42,0.42,0.42,0.42,0.42,0.42,null,5.8199999999999994,{"$f":"IF(WDI_Standard_Order_Form!M11=75,1.15,1)","v":1},2.9972999999999996]
[{"$f":"IF($A$53=\"W\",+WDI_Standard_Order_Form!$AF$3,1)","v":0.51500000000000001},4,{"$f":"+WDI_Standard_Order_Form!L12","v":""},0.78,{"$f":"IF($A$68=\"C\",IF($C72<=1.25,+E$6,IF(D72<=2,+E$7,+E$8)),IF($A$68=\"W\",IF($C72<=1.25,+E$9,IF(D72<=2,+E$10,+E$11)),9999))","v":0.42},0.42,0.42,0.42,0.42,0.42,0.42,0.42,0.42,0.42,0.42,0.42,null,5.8199999999999994,{"$f":"IF(WDI_Standard_Order_Form!M12=75,1.15,1)","v":1},2.9972999999999996]
[{"$f":"IF($A$53=\"W\",+WDI_Standard_Order_Form!$AF$3,1)","v":0.51500000000000001},5,{"$f":"+WDI_Standard_Order_Form!L13","v":""},0.78,{"$f":"IF($A$68=\"C\",IF($C73<=1.25,+E$6,IF(D73<=2,+E$7,+E$8)),IF($A$68=\"W\",IF($C73<=1.25,+E$9,IF(D73<=2,+E$10,+E$11)),9999))","v":0.42},0.42,0.42,0.42,0.42,0.42,0.42,0.42,0.42,0.42,0.42,0.42,null,5.8199999999999994,{"$f":"IF(WDI_Standard_Order_Form!M13=75,1.15,1)","v":1},2.9972999999999996]
[{"$f":"IF($A$53=\"W\",+WDI_Standard_Order_Form!$AF$3,1)","v":0.51500000000000001},6,{"$f":"+WDI_Standard_Order_Form!L14","v":""},0.78,{"$f":"IF($A$68=\"C\",IF($C74<=1.25,+E$6,IF(D74<=2,+E$7,+E$8)),IF($A$68=\"W\",IF($C74<=1.25,+E$9,IF(D74<=2,+E$10,+E$11)),9999))","v":0.42},0.42,0.42,0.42,0.42,0.42,0.42,0.42,0.42,0.42,0.42,0.42,null,5.8199999999999994,{"$f":"IF(WDI_Standard_Order_Form!M14=75,1.15,1)","v":1},2.9972999999999996]
[{"$f":"IF($A$53=\"W\",+WDI_Standard_Order_Form!$AF$3,1)","v":0.51500000000000001},7,{"$f":"+WDI_Standard_Order_Form!L15","v":""},0.78,{"$f":"IF($A$68=\"C\",IF($C75<=1.25,+E$6,IF(D75<=2,+E$7,+E$8)),IF($A$68=\"W\",IF($C75<=1.25,+E$9,IF(D75<=2,+E$10,+E$11)),9999))","v":0.42},0.42,0.42,0.42,0.42,0.42,0.42,0.42,0.42,0.42,0.42,0.42,null,5.8199999999999994,{"$f":"IF(WDI_Standard_Order_Form!M15=75,1.15,1)","v":1},2.9972999999999996]
[{"$f":"IF($A$53=\"W\",+WDI_Standard_Order_Form!$AF$3,1)","v":0.51500000000000001},8,{"$f":"+WDI_Standard_Order_Form!L16","v":""},0.78,{"$f":"IF($A$68=\"C\",IF($C76<=1.25,+E$6,IF(D76<=2,+E$7,+E$8)),IF($A$68=\"W\",IF($C76<=1.25,+E$9,IF(D76<=2,+E$10,+E$11)),9999))","v":0.42},0.42,0.42,0.42,0.42,0.42,0.42,0.42,0.42,0.42,0.42,0.42,null,5.8199999999999994,{"$f":"IF(WDI_Standard_Order_Form!M16=75,1.15,1)","v":1},2.9972999999999996]
[{"$f":"IF($A$53=\"W\",+WDI_Standard_Order_Form!$AF$3,1)","v":0.51500000000000001},9,{"$f":"+WDI_Standard_Order_Form!L17","v":""},0.78,{"$f":"IF($A$68=\"C\",IF($C77<=1.25,+E$6,IF(D77<=2,+E$7,+E$8)),IF($A$68=\"W\",IF($C77<=1.25,+E$9,IF(D77<=2,+E$10,+E$11)),9999))","v":0.42},0.42,0.42,0.42,0.42,0.42,0.42,0.42,0.42,0.42,0.42,0.42,null,5.8199999999999994,{"$f":"IF(WDI_Standard_Order_Form!M17=75,1.15,1)","v":1},2.9972999999999996]
[{"$f":"IF($A$53=\"W\",+WDI_Standard_Order_Form!$AF$3,1)","v":0.51500000000000001},10,{"$f":"+WDI_Standard_Order_Form!L18","v":""},0.78,{"$f":"IF($A$68=\"C\",IF($C78<=1.25,+E$6,IF(D78<=2,+E$7,+E$8)),IF($A$68=\"W\",IF($C78<=1.25,+E$9,IF(D78<=2,+E$10,+E$11)),9999))","v":0.42},0.42,0.42,0.42,0.42,0.42,0.42,0.42,0.42,0.42,0.42,0.42,null,5.8199999999999994,{"$f":"IF(WDI_Standard_Order_Form!M18=75,1.15,1)","v":1},2.9972999999999996]
[{"$f":"IF($A$53=\"W\",+WDI_Standard_Order_Form!$AF$3,1)","v":0.51500000000000001},11,{"$f":"+WDI_Standard_Order_Form!L19","v":""},0.78,{"$f":"IF($A$68=\"C\",IF($C79<=1.25,+E$6,IF(D79<=2,+E$7,+E$8)),IF($A$68=\"W\",IF($C79<=1.25,+E$9,IF(D79<=2,+E$10,+E$11)),9999))","v":0.42},0.42,0.42,0.42,0.42,0.42,0.42,0.42,0.42,0.42,0.42,0.42,null,5.8199999999999994,{"$f":"IF(WDI_Standard_Order_Form!M19=75,1.15,1)","v":1},2.9972999999999996]
[]
[]
[null,null,null,null,null,null,null,null,null,null,null,null,null,null,null,null,null,"LIST",null,"Factored"]
[{"$f":"+A68","v":"W"},null,"Stop Width Price/Window",null,null,null,null,null,null,null,null,null,null,null,null,null,null,"PRICE","White?","Price"]
[{"$f":"IF($A$53=\"W\",+WDI_Standard_Order_Form!$AF$3,1)","v":0.51500000000000001},1,{"$f":"+WDI_Standard_Order_Form!L9","v":""},{"$f":"+D28*D41*D69","v":0},{"$f":"+E28*E41*E69","v":0},0,0,0,0,0,0,0,0,0,0,{"$f":"+P28*P41*P69","v":0},null,{"$f":"SUM(D84:Q84)","v":0},{"$f":"IF(WDI_Standard_Order_Form!M9=75,1.15,1)","v":1},{"$f":"+R84*A84*S84","v":0}]
[{"$f":"IF($A$53=\"W\",+WDI_Standard_Order_Form!$AF$3,1)","v":0.51500000000000001},2,{"$f":"+WDI_Standard_Order_Form!L10","v":""},{"$f":"+D29*D42*D70","v":0},0,0,0,0,0,0,0,0,0,0,0,{"$f":"+P29*P42*P70","v":0},null,{"$f":"SUM(D85:Q85)","v":0},{"$f":"IF(WDI_Standard_Order_Form!M10=75,1.15,1)","v":1},0]
[{"$f":"IF($A$53=\"W\",+WDI_Standard_Order_Form!$AF$3,1)","v":0.51500000000000001},3,{"$f":"+WDI_Standard_Order_Form!L11","v":""},{"$f":"+D30*D43*D71","v":0},0,0,0,0,0,0,0,0,0,0,0,{"$f":"+P30*P43*P71","v":0},null,0,{"$f":"IF(WDI_Standard_Order_Form!M11=75,1.15,1)","v":1},0]
[{"$f":"IF($A$53=\"W\",+WDI_Standard_Order_Form!$AF$3,1)","v":0.51500000000000001},4,{"$f":"+WDI_Standard_Order_Form!L12","v":""},{"$f":"+D31*D44*D72","v":0},0,0,0,0,0,0,0,0,0,0,0,{"$f":"+P31*P44*P72","v":0},null,0,{"$f":"IF(WDI_Standard_Order_Form!M12=75,1.15,1)","v":1},0]
[{"$f":"IF($A$53=\"W\",+WDI_Standard_Order_Form!$AF$3,1)","v":0.51500000000000001},5,{"$f":"+WDI_Standard_Order_Form!L13","v":""},{"$f":"+D32*D45*D73","v":0},0,0,0,0,0,0,0,0,0,0,0,{"$f":"+P32*P45*P73","v":0},null,0,{"$f":"IF(WDI_Standard_Order_Form!M13=75,1.15,1)","v":1},0]
[{"$f":"IF($A$53=\"W\",+WDI_Standard_Order_Form!$AF$3,1)","v":0.51500000000000001},6,{"$f":"+WDI_Standard_Order_Form!L14","v":""},{"$f":"+D33*D46*D74","v":0},0,0,0,0,0,0,0,0,0,0,0,{"$f":"+P33*P46*P74","v":0},null,0,{"$f":"IF(WDI_Standard_Order_Form!M14=75,1.15,1)","v":1},0]
[{"$f":"IF($A$53=\"W\",+WDI_Standard_Order_Form!$AF$3,1)","v":0.51500000000000001},7,{"$f":"+WDI_Standard_Order_Form!L15","v":""},{"$f":"+D34*D47*D75","v":0},0,0,0,0,0,0,0,0,0,0,0,{"$f":"+P34*P47*P75","v":0},null,0,{"$f":"IF(WDI_Standard_Order_Form!M15=75,1.15,1)","v":1},0]
[{"$f":"IF($A$53=\"W\",+WDI_Standard_Order_Form!$AF$3,1)","v":0.51500000000000001},8,{"$f":"+WDI_Standard_Order_Form!L16","v":""},{"$f":"+D35*D48*D76","v":0},0,0,0,0,0,0,0,0,0,0,0,{"$f":"+P35*P48*P76","v":0},null,0,{"$f":"IF(WDI_Standard_Order_Form!M16=75,1.15,1)","v":1},0]
[{"$f":"IF($A$53=\"W\",+WDI_Standard_Order_Form!$AF$3,1)","v":0.51500000000000001},9,{"$f":"+WDI_Standard_Order_Form!L17","v":""},{"$f":"+D36*D49*D77","v":0},0,0,0,0,0,0,0,0,0,0,0,{"$f":"+P36*P49*P77","v":0},null,0,{"$f":"IF(WDI_Standard_Order_Form!M17=75,1.15,1)","v":1},0]
[{"$f":"IF($A$53=\"W\",+WDI_Standard_Order_Form!$AF$3,1)","v":0.51500000000000001},10,{"$f":"+WDI_Standard_Order_Form!L18","v":""},{"$f":"+D37*D50*D78","v":0},0,0,0,0,0,0,0,0,0,0,0,{"$f":"+P37*P50*P78","v":0},null,0,{"$f":"IF(WDI_Standard_Order_Form!M18=75,1.15,1)","v":1},0]
[{"$f":"IF($A$53=\"W\",+WDI_Standard_Order_Form!$AF$3,1)","v":0.51500000000000001},11,{"$f":"+WDI_Standard_Order_Form!L19","v":""},{"$f":"+D38*D51*D79","v":0},0,0,0,0,0,0,0,0,0,0,0,{"$f":"+P38*P51*P79","v":0},null,0,{"$f":"IF(WDI_Standard_Order_Form!M19=75,1.15,1)","v":1},0]
[]
[]
["Factor & White",null,null,null,null,null,null,null,null,null,null,null,null,null,null,null,null,"LIST",null,"Factored"]
[{"$f":"+A83","v":"W"},null,"Casing widths factor",{"$f":"IF($A98=\"W\",+D63,IF($A98=\"C\",+D62,0))","v":0},null,null,null,null,null,null,null,null,null,null,null,null,null,"PRICE","White?","Price"]
[{"$f":"IF($A$53=\"W\",+WDI_Standard_Order_Form!$AF$3,1)","v":0.51500000000000001},1,{"$f":"+WDI_Standard_Order_Form!L39","v":0},{"$f":"IF(WDI_Standard_Order_Form!$J9=2.25,1,IF(WDI_Standard_Order_Form!$J9=2.5,1.05,IF(WDI_Standard_Order_Form!$J9=3.25,1.15,0)))","v":0},{"$f":"IF(WDI_Standard_Order_Form!$J9=2.25,1,IF(WDI_Standard_Order_Form!$J9=2.5,1.05,IF(WDI_Standard_Order_Form!$J9=3.25,1.15,0)))","v":0},{"$f":"IF(WDI_Standard_Order_Form!$J9=2.25,1,IF(WDI_Standard_Order_Form!$J9=2.5,1.05,IF(WDI_Standard_Order_Form!$J9=3.25,1.15,0)))","v":0},{"$f":"IF(WDI_Standard_Order_Form!$J9=2.25,1,IF(WDI_Standard_Order_Form!$J9=2.5,1.05,IF(WDI_Standard_Order_Form!$J9=3.25,1.15,0)))","v":0},{"$f":"IF(WDI_Standard_Order_Form!$J9=2.25,1,IF(WDI_Standard_Order_Form!$J9=2.5,1.05,IF(WDI_Standard_Order_Form!$J9=3.25,1.15,0)))","v":0},{"$f":"IF(WDI_Standard_Order_Form!$J9=2.25,1,IF(WDI_Standard_Order_Form!$J9=2.5,1.05,IF(WDI_Standard_Order_Form!$J9=3.25,1.15,0)))","v":0},{"$f":"IF(WDI_Standard_Order_Form!$J9=2.25,1,IF(WDI_Standard_Order_Form!$J9=2.5,1.05,IF(WDI_Standard_Order_Form!$J9=3.25,1.15,0)))","v":0},{"$f":"IF(WDI_Standard_Order_Form!$J9=2.25,1,IF(WDI_Standard_Order_Form!$J9=2.5,1.05,IF(WDI_Standard_Order_Form!$J9=3.25,1.15,0)))","v":0},{"$f":"IF(WDI_Standard_Order_Form!$J9=2.25,1,IF(WDI_Standard_Order_Form!$J9=2.5,1.05,IF(WDI_Standard_Order_Form!$J9=3.25,1.15,0)))","v":0},{"$f":"IF(WDI_Standard_Order_Form!$J9=2.25,1,IF(WDI_Standard_Order_Form!$J9=2.5,1.05,IF(WDI_Standard_Order_Form!$J9=3.25,1.15,0)))","v":0},{"$f":"IF(WDI_Standard_Order_Form!$J9=2.25,1,IF(WDI_Standard_Order_Form!$J9=2.5,1.05,IF(WDI_Standard_Order_Form!$J9=3.25,1.15,0)))","v":0},{"$f":"IF(WDI_Standard_Order_Form!$J9=2.25,1,IF(WDI_Standard_Order_Form!$J9=2.5,1.05,IF(WDI_Standard_Order_Form!$J9=3.25,1.15,0)))","v":0},{"$f":"IF(WDI_Standard_Order_Form!$J9=2.25,1,IF(WDI_Standard_Order_Form!$J9=2.5,1.05,IF(WDI_Standard_Order_Form!$J9=3.25,1.15,0)))","v":0},null,{"$f":"SUM(D99:Q99)","v":0},{"$f":"IF(WDI_Standard_Order_Form!M9=75,1.15,1)","v":1},{"$f":"+R99*A99*S99","v":0}]
[{"$f":"IF($A$53=\"W\",+WDI_Standard_Order_Form!$AF$3,1)","v":0.51500000000000001},2,{"$f":"+WDI_Standard_Order_Form!L40","v":0},{"$f":"IF(WDI_Standard_Order_Form!$J10=2.25,1,IF(WDI_Standard_Order_Form!$J10=2.5,1.05,IF(WDI_Standard_Order_Form!$J10=3.25,1.15,0)))","v":0},{"$f":"IF(WDI_Standard_Order_Form!$J10=2.25,1,IF(WDI_Standard_Order_Form!$J10=2.5,1.05,IF(WDI_Standard_Order_Form!$J10=3.25,1.15,0)))","v":0},{"$f":"IF(WDI_Standard_Order_Form!$J10=2.25,1,IF(WDI_Standard_Order_Form!$J10=2.5,1.05,IF(WDI_Standard_Order_Form!$J10=3.25,1.15,0)))","v":0},{"$f":"IF(WDI_Standard_Order_Form!$J10=2.25,1,IF(WDI_Standard_Order_Form!$J10=2.5,1.05,IF(WDI_Standard_Order_Form!$J10=3.25,1.15,0)))","v":0},{"$f":"IF(WDI_Standard_Order_Form!$J10=2.25,1,IF(WDI_Standard_Order_Form!$J10=2.5,1.05,IF(WDI_Standard_Order_Form!$J10=3.25,1.15,0)))","v":0},{"$f":"IF(WDI_Standard_Order_Form!$J10=2.25,1,IF(WDI_Standard_Order_Form!$J10=2.5,1.05,IF(WDI_Standard_Order_Form!$J10=3.25,1.15,0)))","v":0},{"$f":"IF(WDI_Standard_Order_Form!$J10=2.25,1,IF(WDI_Standard_Order_Form!$J10=2.5,1.05,IF(WDI_Standard_Order_Form!$J10=3.25,1.15,0)))","v":0},{"$f":"IF(WDI_Standard_Order_Form!$J10=2.25,1,IF(WDI_Standard_Order_Form!$J10=2.5,1.05,IF(WDI_Standard_Order_Form!$J10=3.25,1.15,0)))","v":0},{"$f":"IF(WDI_Standard_Order_Form!$J10=2.25,1,IF(WDI_Standard_Order_Form!$J10=2.5,1.05,IF(WDI_Standard_Order_Form!$J10=3.25,1.15,0)))","v":0},{"$f":"IF(WDI_Standard_Order_Form!$J10=2.25,1,IF(WDI_Standard_Order_Form!$J10=2.5,1.05,IF(WDI_Standard_Order_Form!$J10=3.25,1.15,0)))","v":0},{"$f":"IF(WDI_Standard_Order_Form!$J10=2.25,1,IF(WDI_Standard_Order_Form!$J10=2.5,1.05,IF(WDI_Standard_Order_Form!$J10=3.25,1.15,0)))","v":0},{"$f":"IF(WDI_Standard_Order_Form!$J10=2.25,1,IF(WDI_Standard_Order_Form!$J10=2.5,1.05,IF(WDI_Standard_Order_Form!$J10=3.25,1.15,0)))","v":0},{"$f":"IF(WDI_Standard_Order_Form!$J10=2.25,1,IF(WDI_Standard_Order_Form!$J10=2.5,1.05,IF(WDI_Standard_Order_Form!$J10=3.25,1.15,0)))","v":0},null,{"$f":"SUM(D100:Q100)","v":0},{"$f":"IF(WDI_Standard_Order_Form!M10=75,1.15,1)","v":1},0]
[{"$f":"IF($A$53=\"W\",+WDI_Standard_Order_Form!$AF$3,1)","v":0.51500000000000001},3,{"$f":"+WDI_Standard_Order_Form!L41","v":0},{"$f":"IF(WDI_Standard_Order_Form!$J11=2.25,1,IF(WDI_Standard_Order_Form!$J11=2.5,1.05,IF(WDI_Standard_Order_Form!$J11=3.25,1.15,0)))","v":0},{"$f":"IF(WDI_Standard_Order_Form!$J11=2.25,1,IF(WDI_Standard_Order_Form!$J11=2.5,1.05,IF(WDI_Standard_Order_Form!$J11=3.25,1.15,0)))","v":0},{"$f":"IF(WDI_Standard_Order_Form!$J11=2.25,1,IF(WDI_Standard_Order_Form!$J11=2.5,1.05,IF(WDI_Standard_Order_Form!$J11=3.25,1.15,0)))","v":0},{"$f":"IF(WDI_Standard_Order_Form!$J11=2.25,1,IF(WDI_Standard_Order_Form!$J11=2.5,1.05,IF(WDI_Standard_Order_Form!$J11=3.25,1.15,0)))","v":0},{"$f":"IF(WDI_Standard_Order_Form!$J11=2.25,1,IF(WDI_Standard_Order_Form!$J11=2.5,1.05,IF(WDI_Standard_Order_Form!$J11=3.25,1.15,0)))","v":0},{"$f":"IF(WDI_Standard_Order_Form!$J11=2.25,1,IF(WDI_Standard_Order_Form!$J11=2.5,1.05,IF(WDI_Standard_Order_Form!$J11=3.25,1.15,0)))","v":0},{"$f":"IF(WDI_Standard_Order_Form!$J11=2.25,1,IF(WDI_Standard_Order_Form!$J11=2.5,1.05,IF(WDI_Standard_Order_Form!$J11=3.25,1.15,0)))","v":0},{"$f":"IF(WDI_Standard_Order_Form!$J11=2.25,1,IF(WDI_Standard_Order_Form!$J11=2.5,1.05,IF(WDI_Standard_Order_Form!$J11=3.25,1.15,0)))","v":0},{"$f":"IF(WDI_Standard_Order_Form!$J11=2.25,1,IF(WDI_Standard_Order_Form!$J11=2.5,1.05,IF(WDI_Standard_Order_Form!$J11=3.25,1.15,0)))","v":0},{"$f":"IF(WDI_Standard_Order_Form!$J11=2.25,1,IF(WDI_Standard_Order_Form!$J11=2.5,1.05,IF(WDI_Standard_Order_Form!$J11=3.25,1.15,0)))","v":0},{"$f":"IF(WDI_Standard_Order_Form!$J11=2.25,1,IF(WDI_Standard_Order_Form!$J11=2.5,1.05,IF(WDI_Standard_Order_Form!$J11=3.25,1.15,0)))","v":0},{"$f":"IF(WDI_Standard_Order_Form!$J11=2.25,1,IF(WDI_Standard_Order_Form!$J11=2.5,1.05,IF(WDI_Standard_Order_Form!$J11=3.25,1.15,0)))","v":0},{"$f":"IF(WDI_Standard_Order_Form!$J11=2.25,1,IF(WDI_Standard_Order_Form!$J11=2.5,1.05,IF(WDI_Standard_Order_Form!$J11=3.25,1.15,0)))","v":0},null,0,{"$f":"IF(WDI_Standard_Order_Form!M11=75,1.15,1)","v":1},0]
[{"$f":"IF($A$53=\"W\",+WDI_Standard_Order_Form!$AF$3,1)","v":0.51500000000000001},4,{"$f":"+WDI_Standard_Order_Form!L42","v":0},{"$f":"IF(WDI_Standard_Order_Form!$J12=2.25,1,IF(WDI_Standard_Order_Form!$J12=2.5,1.05,IF(WDI_Standard_Order_Form!$J12=3.25,1.15,0)))","v":0},{"$f":"IF(WDI_Standard_Order_Form!$J12=2.25,1,IF(WDI_Standard_Order_Form!$J12=2.5,1.05,IF(WDI_Standard_Order_Form!$J12=3.25,1.15,0)))","v":0},{"$f":"IF(WDI_Standard_Order_Form!$J12=2.25,1,IF(WDI_Standard_Order_Form!$J12=2.5,1.05,IF(WDI_Standard_Order_Form!$J12=3.25,1.15,0)))","v":0},{"$f":"IF(WDI_Standard_Order_Form!$J12=2.25,1,IF(WDI_Standard_Order_Form!$J12=2.5,1.05,IF(WDI_Standard_Order_Form!$J12=3.25,1.15,0)))","v":0},{"$f":"IF(WDI_Standard_Order_Form!$J12=2.25,1,IF(WDI_Standard_Order_Form!$J12=2.5,1.05,IF(WDI_Standard_Order_Form!$J12=3.25,1.15,0)))","v":0},{"$f":"IF(WDI_Standard_Order_Form!$J12=2.25,1,IF(WDI_Standard_Order_Form!$J12=2.5,1.05,IF(WDI_Standard_Order_Form!$J12=3.25,1.15,0)))","v":0},{"$f":"IF(WDI_Standard_Order_Form!$J12=2.25,1,IF(WDI_Standard_Order_Form!$J12=2.5,1.05,IF(WDI_Standard_Order_Form!$J12=3.25,1.15,0)))","v":0},{"$f":"IF(WDI_Standard_Order_Form!$J12=2.25,1,IF(WDI_Standard_Order_Form!$J12=2.5,1.05,IF(WDI_Standard_Order_Form!$J12=3.25,1.15,0)))","v":0},{"$f":"IF(WDI_Standard_Order_Form!$J12=2.25,1,IF(WDI_Standard_Order_Form!$J12=2.5,1.05,IF(WDI_Standard_Order_Form!$J12=3.25,1.15,0)))","v":0},{"$f":"IF(WDI_Standard_Order_Form!$J12=2.25,1,IF(WDI_Standard_Order_Form!$J12=2.5,1.05,IF(WDI_Standard_Order_Form!$J12=3.25,1.15,0)))","v":0},{"$f":"IF(WDI_Standard_Order_Form!$J12=2.25,1,IF(WDI_Standard_Order_Form!$J12=2.5,1.05,IF(WDI_Standard_Order_Form!$J12=3.25,1.15,0)))","v":0},{"$f":"IF(WDI_Standard_Order_Form!$J12=2.25,1,IF(WDI_Standard_Order_Form!$J12=2.5,1.05,IF(WDI_Standard_Order_Form!$J12=3.25,1.15,0)))","v":0},{"$f":"IF(WDI_Standard_Order_Form!$J12=2.25,1,IF(WDI_Standard_Order_Form!$J12=2.5,1.05,IF(WDI_Standard_Order_Form!$J12=3.25,1.15,0)))","v":0},null,0,{"$f":"IF(WDI_Standard_Order_Form!M12=75,1.15,1)","v":1},0]
[{"$f":"IF($A$53=\"W\",+WDI_Standard_Order_Form!$AF$3,1)","v":0.51500000000000001},5,{"$f":"+WDI_Standard_Order_Form!L43","v":0},{"$f":"IF(WDI_Standard_Order_Form!$J13=2.25,1,IF(WDI_Standard_Order_Form!$J13=2.5,1.05,IF(WDI_Standard_Order_Form!$J13=3.25,1.15,0)))","v":0},{"$f":"IF(WDI_Standard_Order_Form!$J13=2.25,1,IF(WDI_Standard_Order_Form!$J13=2.5,1.05,IF(WDI_Standard_Order_Form!$J13=3.25,1.15,0)))","v":0},{"$f":"IF(WDI_Standard_Order_Form!$J13=2.25,1,IF(WDI_Standard_Order_Form!$J13=2.5,1.05,IF(WDI_Standard_Order_Form!$J13=3.25,1.15,0)))","v":0},{"$f":"IF(WDI_Standard_Order_Form!$J13=2.25,1,IF(WDI_Standard_Order_Form!$J13=2.5,1.05,IF(WDI_Standard_Order_Form!$J13=3.25,1.15,0)))","v":0},{"$f":"IF(WDI_Standard_Order_Form!$J13=2.25,1,IF(WDI_Standard_Order_Form!$J13=2.5,1.05,IF(WDI_Standard_Order_Form!$J13=3.25,1.15,0)))","v":0},{"$f":"IF(WDI_Standard_Order_Form!$J13=2.25,1,IF(WDI_Standard_Order_Form!$J13=2.5,1.05,IF(WDI_Standard_Order_Form!$J13=3.25,1.15,0)))","v":0},{"$f":"IF(WDI_Standard_Order_Form!$J13=2.25,1,IF(WDI_Standard_Order_Form!$J13=2.5,1.05,IF(WDI_Standard_Order_Form!$J13=3.25,1.15,0)))","v":0},{"$f":"IF(WDI_Standard_Order_Form!$J13=2.25,1,IF(WDI_Standard_Order_Form!$J13=2.5,1.05,IF(WDI_Standard_Order_Form!$J13=3.25,1.15,0)))","v":0},{"$f":"IF(WDI_Standard_Order_Form!$J13=2.25,1,IF(WDI_Standard_Order_Form!$J13=2.5,1.05,IF(WDI_Standard_Order_Form!$J13=3.25,1.15,0)))","v":0},{"$f":"IF(WDI_Standard_Order_Form!$J13=2.25,1,IF(WDI_Standard_Order_Form!$J13=2.5,1.05,IF(WDI_Standard_Order_Form!$J13=3.25,1.15,0)))","v":0},{"$f":"IF(WDI_Standard_Order_Form!$J13=2.25,1,IF(WDI_Standard_Order_Form!$J13=2.5,1.05,IF(WDI_Standard_Order_Form!$J13=3.25,1.15,0)))","v":0},{"$f":"IF(WDI_Standard_Order_Form!$J13=2.25,1,IF(WDI_Standard_Order_Form!$J13=2.5,1.05,IF(WDI_Standard_Order_Form!$J13=3.25,1.15,0)))","v":0},{"$f":"IF(WDI_Standard_Order_Form!$J13=2.25,1,IF(WDI_Standard_Order_Form!$J13=2.5,1.05,IF(WDI_Standard_Order_Form!$J13=3.25,1.15,0)))","v":0},null,0,{"$f":"IF(WDI_Standard_Order_Form!M13=75,1.15,1)","v":1},0]
[{"$f":"IF($A$53=\"W\",+WDI_Standard_Order_Form!$AF$3,1)","v":0.51500000000000001},6,{"$f":"+WDI_Standard_Order_Form!L44","v":0},{"$f":"IF(WDI_Standard_Order_Form!$J14=2.25,1,IF(WDI_Standard_Order_Form!$J14=2.5,1.05,IF(WDI_Standard_Order_Form!$J14=3.25,1.15,0)))","v":0},{"$f":"IF(WDI_Standard_Order_Form!$J14=2.25,1,IF(WDI_Standard_Order_Form!$J14=2.5,1.05,IF(WDI_Standard_Order_Form!$J14=3.25,1.15,0)))","v":0},{"$f":"IF(WDI_Standard_Order_Form!$J14=2.25,1,IF(WDI_Standard_Order_Form!$J14=2.5,1.05,IF(WDI_Standard_Order_Form!$J14=3.25,1.15,0)))","v":0},{"$f":"IF(WDI_Standard_Order_Form!$J14=2.25,1,IF(WDI_Standard_Order_Form!$J14=2.5,1.05,IF(WDI_Standard_Order_Form!$J14=3.25,1.15,0)))","v":0},{"$f":"IF(WDI_Standard_Order_Form!$J14=2.25,1,IF(WDI_Standard_Order_Form!$J14=2.5,1.05,IF(WDI_Standard_Order_Form!$J14=3.25,1.15,0)))","v":0},{"$f":"IF(WDI_Standard_Order_Form!$J14=2.25,1,IF(WDI_Standard_Order_Form!$J14=2.5,1.05,IF(WDI_Standard_Order_Form!$J14=3.25,1.15,0)))","v":0},{"$f":"IF(WDI_Standard_Order_Form!$J14=2.25,1,IF(WDI_Standard_Order_Form!$J14=2.5,1.05,IF(WDI_Standard_Order_Form!$J14=3.25,1.15,0)))","v":0},{"$f":"IF(WDI_Standard_Order_Form!$J14=2.25,1,IF(WDI_Standard_Order_Form!$J14=2.5,1.05,IF(WDI_Standard_Order_Form!$J14=3.25,1.15,0)))","v":0},{"$f":"IF(WDI_Standard_Order_Form!$J14=2.25,1,IF(WDI_Standard_Order_Form!$J14=2.5,1.05,IF(WDI_Standard_Order_Form!$J14=3.25,1.15,0)))","v":0},{"$f":"IF(WDI_Standard_Order_Form!$J14=2.25,1,IF(WDI_Standard_Order_Form!$J14=2.5,1.05,IF(WDI_Standard_Order_Form!$J14=3.25,1.15,0)))","v":0},{"$f":"IF(WDI_Standard_Order_Form!$J14=2.25,1,IF(WDI_Standard_Order_Form!$J14=2.5,1.05,IF(WDI_Standard_Order_Form!$J14=3.25,1.15,0)))","v":0},{"$f":"IF(WDI_Standard_Order_Form!$J14=2.25,1,IF(WDI_Standard_Order_Form!$J14=2.5,1.05,IF(WDI_Standard_Order_Form!$J14=3.25,1.15,0)))","v":0},{"$f":"IF(WDI_Standard_Order_Form!$J14=2.25,1,IF(WDI_Standard_Order_Form!$J14=2.5,1.05,IF(WDI_Standard_Order_Form!$J14=3.25,1.15,0)))","v":0},null,0,{"$f":"IF(WDI_Standard_Order_Form!M14=75,1.15,1)","v":1},0]
[{"$f":"IF($A$53=\"W\",+WDI_Standard_Order_Form!$AF$3,1)","v":0.51500000000000001},7,{"$f":"+WDI_Standard_Order_Form!L45","v":0},{"$f":"IF(WDI_Standard_Order_Form!$J15=2.25,1,IF(WDI_Standard_Order_Form!$J15=2.5,1.05,IF(WDI_Standard_Order_Form!$J15=3.25,1.15,0)))","v":0},{"$f":"IF(WDI_Standard_Order_Form!$J15=2.25,1,IF(WDI_Standard_Order_Form!$J15=2.5,1.05,IF(WDI_Standard_Order_Form!$J15=3.25,1.15,0)))","v":0},{"$f":"IF(WDI_Standard_Order_Form!$J15=2.25,1,IF(WDI_Standard_Order_Form!$J15=2.5,1.05,IF(WDI_Standard_Order_Form!$J15=3.25,1.15,0)))","v":0},{"$f":"IF(WDI_Standard_Order_Form!$J15=2.25,1,IF(WDI_Standard_Order_Form!$J15=2.5,1.05,IF(WDI_Standard_Order_Form!$J15=3.25,1.15,0)))","v":0},{"$f":"IF(WDI_Standard_Order_Form!$J15=2.25,1,IF(WDI_Standard_Order_Form!$J15=2.5,1.05,IF(WDI_Standard_Order_Form!$J15=3.25,1.15,0)))","v":0},{"$f":"IF(WDI_Standard_Order_Form!$J15=2.25,1,IF(WDI_Standard_Order_Form!$J15=2.5,1.05,IF(WDI_Standard_Order_Form!$J15=3.25,1.15,0)))","v":0},{"$f":"IF(WDI_Standard_Order_Form!$J15=2.25,1,IF(WDI_Standard_Order_Form!$J15=2.5,1.05,IF(WDI_Standard_Order_Form!$J15=3.25,1.15,0)))","v":0},{"$f":"IF(WDI_Standard_Order_Form!$J15=2.25,1,IF(WDI_Standard_Order_Form!$J15=2.5,1.05,IF(WDI_Standard_Order_Form!$J15=3.25,1.15,0)))","v":0},{"$f":"IF(WDI_Standard_Order_Form!$J15=2.25,1,IF(WDI_Standard_Order_Form!$J15=2.5,1.05,IF(WDI_Standard_Order_Form!$J15=3.25,1.15,0)))","v":0},{"$f":"IF(WDI_Standard_Order_Form!$J15=2.25,1,IF(WDI_Standard_Order_Form!$J15=2.5,1.05,IF(WDI_Standard_Order_Form!$J15=3.25,1.15,0)))","v":0},{"$f":"IF(WDI_Standard_Order_Form!$J15=2.25,1,IF(WDI_Standard_Order_Form!$J15=2.5,1.05,IF(WDI_Standard_Order_Form!$J15=3.25,1.15,0)))","v":0},{"$f":"IF(WDI_Standard_Order_Form!$J15=2.25,1,IF(WDI_Standard_Order_Form!$J15=2.5,1.05,IF(WDI_Standard_Order_Form!$J15=3.25,1.15,0)))","v":0},{"$f":"IF(WDI_Standard_Order_Form!$J15=2.25,1,IF(WDI_Standard_Order_Form!$J15=2.5,1.05,IF(WDI_Standard_Order_Form!$J15=3.25,1.15,0)))","v":0},null,0,{"$f":"IF(WDI_Standard_Order_Form!M15=75,1.15,1)","v":1},0]
[{"$f":"IF($A$53=\"W\",+WDI_Standard_Order_Form!$AF$3,1)","v":0.51500000000000001},8,{"$f":"+WDI_Standard_Order_Form!L46","v":0},{"$f":"IF(WDI_Standard_Order_Form!$J16=2.25,1,IF(WDI_Standard_Order_Form!$J16=2.5,1.05,IF(WDI_Standard_Order_Form!$J16=3.25,1.15,0)))","v":0},{"$f":"IF(WDI_Standard_Order_Form!$J16=2.25,1,IF(WDI_Standard_Order_Form!$J16=2.5,1.05,IF(WDI_Standard_Order_Form!$J16=3.25,1.15,0)))","v":0},{"$f":"IF(WDI_Standard_Order_Form!$J16=2.25,1,IF(WDI_Standard_Order_Form!$J16=2.5,1.05,IF(WDI_Standard_Order_Form!$J16=3.25,1.15,0)))","v":0},{"$f":"IF(WDI_Standard_Order_Form!$J16=2.25,1,IF(WDI_Standard_Order_Form!$J16=2.5,1.05,IF(WDI_Standard_Order_Form!$J16=3.25,1.15,0)))","v":0},{"$f":"IF(WDI_Standard_Order_Form!$J16=2.25,1,IF(WDI_Standard_Order_Form!$J16=2.5,1.05,IF(WDI_Standard_Order_Form!$J16=3.25,1.15,0)))","v":0},{"$f":"IF(WDI_Standard_Order_Form!$J16=2.25,1,IF(WDI_Standard_Order_Form!$J16=2.5,1.05,IF(WDI_Standard_Order_Form!$J16=3.25,1.15,0)))","v":0},{"$f":"IF(WDI_Standard_Order_Form!$J16=2.25,1,IF(WDI_Standard_Order_Form!$J16=2.5,1.05,IF(WDI_Standard_Order_Form!$J16=3.25,1.15,0)))","v":0},{"$f":"IF(WDI_Standard_Order_Form!$J16=2.25,1,IF(WDI_Standard_Order_Form!$J16=2.5,1.05,IF(WDI_Standard_Order_Form!$J16=3.25,1.15,0)))","v":0},{"$f":"IF(WDI_Standard_Order_Form!$J16=2.25,1,IF(WDI_Standard_Order_Form!$J16=2.5,1.05,IF(WDI_Standard_Order_Form!$J16=3.25,1.15,0)))","v":0},{"$f":"IF(WDI_Standard_Order_Form!$J16=2.25,1,IF(WDI_Standard_Order_Form!$J16=2.5,1.05,IF(WDI_Standard_Order_Form!$J16=3.25,1.15,0)))","v":0},{"$f":"IF(WDI_Standard_Order_Form!$J16=2.25,1,IF(WDI_Standard_Order_Form!$J16=2.5,1.05,IF(WDI_Standard_Order_Form!$J16=3.25,1.15,0)))","v":0},{"$f":"IF(WDI_Standard_Order_Form!$J16=2.25,1,IF(WDI_Standard_Order_Form!$J16=2.5,1.05,IF(WDI_Standard_Order_Form!$J16=3.25,1.15,0)))","v":0},{"$f":"IF(WDI_Standard_Order_Form!$J16=2.25,1,IF(WDI_Standard_Order_Form!$J16=2.5,1.05,IF(WDI_Standard_Order_Form!$J16=3.25,1.15,0)))","v":0},null,0,{"$f":"IF(WDI_Standard_Order_Form!M16=75,1.15,1)","v":1},0]
[{"$f":"IF($A$53=\"W\",+WDI_Standard_Order_Form!$AF$3,1)","v":0.51500000000000001},9,{"$f":"+WDI_Standard_Order_Form!L47","v":0},{"$f":"IF(WDI_Standard_Order_Form!$J17=2.25,1,IF(WDI_Standard_Order_Form!$J17=2.5,1.05,IF(WDI_Standard_Order_Form!$J17=3.25,1.15,0)))","v":0},{"$f":"IF(WDI_Standard_Order_Form!$J17=2.25,1,IF(WDI_Standard_Order_Form!$J17=2.5,1.05,IF(WDI_Standard_Order_Form!$J17=3.25,1.15,0)))","v":0},{"$f":"IF(WDI_Standard_Order_Form!$J17=2.25,1,IF(WDI_Standard_Order_Form!$J17=2.5,1.05,IF(WDI_Standard_Order_Form!$J17=3.25,1.15,0)))","v":0},{"$f":"IF(WDI_Standard_Order_Form!$J17=2.25,1,IF(WDI_Standard_Order_Form!$J17=2.5,1.05,IF(WDI_Standard_Order_Form!$J17=3.25,1.15,0)))","v":0},{"$f":"IF(WDI_Standard_Order_Form!$J17=2.25,1,IF(WDI_Standard_Order_Form!$J17=2.5,1.05,IF(WDI_Standard_Order_Form!$J17=3.25,1.15,0)))","v":0},{"$f":"IF(WDI_Standard_Order_Form!$J17=2.25,1,IF(WDI_Standard_Order_Form!$J17=2.5,1.05,IF(WDI_Standard_Order_Form!$J17=3.25,1.15,0)))","v":0},{"$f":"IF(WDI_Standard_Order_Form!$J17=2.25,1,IF(WDI_Standard_Order_Form!$J17=2.5,1.05,IF(WDI_Standard_Order_Form!$J17=3.25,1.15,0)))","v":0},{"$f":"IF(WDI_Standard_Order_Form!$J17=2.25,1,IF(WDI_Standard_Order_Form!$J17=2.5,1.05,IF(WDI_Standard_Order_Form!$J17=3.25,1.15,0)))","v":0},{"$f":"IF(WDI_Standard_Order_Form!$J17=2.25,1,IF(WDI_Standard_Order_Form!$J17=2.5,1.05,IF(WDI_Standard_Order_Form!$J17=3.25,1.15,0)))","v":0},{"$f":"IF(WDI_Standard_Order_Form!$J17=2.25,1,IF(WDI_Standard_Order_Form!$J17=2.5,1.05,IF(WDI_Standard_Order_Form!$J17=3.25,1.15,0)))","v":0},{"$f":"IF(WDI_Standard_Order_Form!$J17=2.25,1,IF(WDI_Standard_Order_Form!$J17=2.5,1.05,IF(WDI_Standard_Order_Form!$J17=3.25,1.15,0)))","v":0},{"$f":"IF(WDI_Standard_Order_Form!$J17=2.25,1,IF(WDI_Standard_Order_Form!$J17=2.5,1.05,IF(WDI_Standard_Order_Form!$J17=3.25,1.15,0)))","v":0},{"$f":"IF(WDI_Standard_Order_Form!$J17=2.25,1,IF(WDI_Standard_Order_Form!$J17=2.5,1.05,IF(WDI_Standard_Order_Form!$J17=3.25,1.15,0)))","v":0},null,0,{"$f":"IF(WDI_Standard_Order_Form!M17=75,1.15,1)","v":1},0]
[{"$f":"IF($A$53=\"W\",+WDI_Standard_Order_Form!$AF$3,1)","v":0.51500000000000001},10,{"$f":"+WDI_Standard_Order_Form!L48","v":0},{"$f":"IF(WDI_Standard_Order_Form!$J18=2.25,1,IF(WDI_Standard_Order_Form!$J18=2.5,1.05,IF(WDI_Standard_Order_Form!$J18=3.25,1.15,0)))","v":0},{"$f":"IF(WDI_Standard_Order_Form!$J18=2.25,1,IF(WDI_Standard_Order_Form!$J18=2.5,1.05,IF(WDI_Standard_Order_Form!$J18=3.25,1.15,0)))","v":0},{"$f":"IF(WDI_Standard_Order_Form!$J18=2.25,1,IF(WDI_Standard_Order_Form!$J18=2.5,1.05,IF(WDI_Standard_Order_Form!$J18=3.25,1.15,0)))","v":0},{"$f":"IF(WDI_Standard_Order_Form!$J18=2.25,1,IF(WDI_Standard_Order_Form!$J18=2.5,1.05,IF(WDI_Standard_Order_Form!$J18=3.25,1.15,0)))","v":0},{"$f":"IF(WDI_Standard_Order_Form!$J18=2.25,1,IF(WDI_Standard_Order_Form!$J18=2.5,1.05,IF(WDI_Standard_Order_Form!$J18=3.25,1.15,0)))","v":0},{"$f":"IF(WDI_Standard_Order_Form!$J18=2.25,1,IF(WDI_Standard_Order_Form!$J18=2.5,1.05,IF(WDI_Standard_Order_Form!$J18=3.25,1.15,0)))","v":0},{"$f":"IF(WDI_Standard_Order_Form!$J18=2.25,1,IF(WDI_Standard_Order_Form!$J18=2.5,1.05,IF(WDI_Standard_Order_Form!$J18=3.25,1.15,0)))","v":0},{"$f":"IF(WDI_Standard_Order_Form!$J18=2.25,1,IF(WDI_Standard_Order_Form!$J18=2.5,1.05,IF(WDI_Standard_Order_Form!$J18=3.25,1.15,0)))","v":0},{"$f":"IF(WDI_Standard_Order_Form!$J18=2.25,1,IF(WDI_Standard_Order_Form!$J18=2.5,1.05,IF(WDI_Standard_Order_Form!$J18=3.25,1.15,0)))","v":0},{"$f":"IF(WDI_Standard_Order_Form!$J18=2.25,1,IF(WDI_Standard_Order_Form!$J18=2.5,1.05,IF(WDI_Standard_Order_Form!$J18=3.25,1.15,0)))","v":0},{"$f":"IF(WDI_Standard_Order_Form!$J18=2.25,1,IF(WDI_Standard_Order_Form!$J18=2.5,1.05,IF(WDI_Standard_Order_Form!$J18=3.25,1.15,0)))","v":0},{"$f":"IF(WDI_Standard_Order_Form!$J18=2.25,1,IF(WDI_Standard_Order_Form!$J18=2.5,1.05,IF(WDI_Standard_Order_Form!$J18=3.25,1.15,0)))","v":0},{"$f":"IF(WDI_Standard_Order_Form!$J18=2.25,1,IF(WDI_Standard_Order_Form!$J18=2.5,1.05,IF(WDI_Standard_Order_Form!$J18=3.25,1.15,0)))","v":0},null,0,{"$f":"IF(WDI_Standard_Order_Form!M18=75,1.15,1)","v":1},0]
[{"$f":"IF($A$53=\"W\",+WDI_Standard_Order_Form!$AF$3,1)","v":0.51500000000000001},11,{"$f":"+WDI_Standard_Order_Form!L49","v":0},{"$f":"IF(WDI_Standard_Order_Form!$J19=2.25,1,IF(WDI_Standard_Order_Form!$J19=2.5,1.05,IF(WDI_Standard_Order_Form!$J19=3.25,1.15,0)))","v":0},{"$f":"IF(WDI_Standard_Order_Form!$J19=2.25,1,IF(WDI_Standard_Order_Form!$J19=2.5,1.05,IF(WDI_Standard_Order_Form!$J19=3.25,1.15,0)))","v":0},{"$f":"IF(WDI_Standard_Order_Form!$J19=2.25,1,IF(WDI_Standard_Order_Form!$J19=2.5,1.05,IF(WDI_Standard_Order_Form!$J19=3.25,1.15,0)))","v":0},{"$f":"IF(WDI_Standard_Order_Form!$J19=2.25,1,IF(WDI_Standard_Order_Form!$J19=2.5,1.05,IF(WDI_Standard_Order_Form!$J19=3.25,1.15,0)))","v":0},{"$f":"IF(WDI_Standard_Order_Form!$J19=2.25,1,IF(WDI_Standard_Order_Form!$J19=2.5,1.05,IF(WDI_Standard_Order_Form!$J19=3.25,1.15,0)))","v":0},{"$f":"IF(WDI_Standard_Order_Form!$J19=2.25,1,IF(WDI_Standard_Order_Form!$J19=2.5,1.05,IF(WDI_Standard_Order_Form!$J19=3.25,1.15,0)))","v":0},{"$f":"IF(WDI_Standard_Order_Form!$J19=2.25,1,IF(WDI_Standard_Order_Form!$J19=2.5,1.05,IF(WDI_Standard_Order_Form!$J19=3.25,1.15,0)))","v":0},{"$f":"IF(WDI_Standard_Order_Form!$J19=2.25,1,IF(WDI_Standard_Order_Form!$J19=2.5,1.05,IF(WDI_Standard_Order_Form!$J19=3.25,1.15,0)))","v":0},{"$f":"IF(WDI_Standard_Order_Form!$J19=2.25,1,IF(WDI_Standard_Order_Form!$J19=2.5,1.05,IF(WDI_Standard_Order_Form!$J19=3.25,1.15,0)))","v":0},{"$f":"IF(WDI_Standard_Order_Form!$J19=2.25,1,IF(WDI_Standard_Order_Form!$J19=2.5,1.05,IF(WDI_Standard_Order_Form!$J19=3.25,1.15,0)))","v":0},{"$f":"IF(WDI_Standard_Order_Form!$J19=2.25,1,IF(WDI_Standard_Order_Form!$J19=2.5,1.05,IF(WDI_Standard_Order_Form!$J19=3.25,1.15,0)))","v":0},{"$f":"IF(WDI_Standard_Order_Form!$J19=2.25,1,IF(WDI_Standard_Order_Form!$J19=2.5,1.05,IF(WDI_Standard_Order_Form!$J19=3.25,1.15,0)))","v":0},{"$f":"IF(WDI_Standard_Order_Form!$J19=2.25,1,IF(WDI_Standard_Order_Form!$J19=2.5,1.05,IF(WDI_Standard_Order_Form!$J19=3.25,1.15,0)))","v":0},null,0,{"$f":"IF(WDI_Standard_Order_Form!M19=75,1.15,1)","v":1},0]
[]
[]
["Factor & White",null,null,null,null,null,null,null,null,null,null,null,null,null,null,null,null,"LIST"]
[{"$f":"+A98","v":"W"},null,"Casing widths factor",{"$f":"IF($A113=\"W\",+D78,IF($A113=\"C\",+D77,0))","v":0.78},null,null,null,null,null,null,null,null,null,null,null,null,null,"FACTOR"]
[{"$f":"IF($A$53=\"W\",+WDI_Standard_Order_Form!$AF$3,1)","v":0.51500000000000001},1,{"$f":"+WDI_Standard_Order_Form!L54","v":0},{"$f":"+D99*D41","v":0},{"$f":"+E99*E41","v":0},0,0,0,0,0,0,0,0,0,0,0,null,{"$f":"SUM(D114:Q114)","v":0}]
[{"$f":"IF($A$53=\"W\",+WDI_Standard_Order_Form!$AF$3,1)","v":0.51500000000000001},2,{"$f":"+WDI_Standard_Order_Form!L55","v":0},{"$f":"+D100*D42","v":0},0,0,0,0,0,0,0,0,0,0,0,0,null,{"$f":"SUM(D115:Q115)","v":0}]
[{"$f":"IF($A$53=\"W\",+WDI_Standard_Order_Form!$AF$3,1)","v":0.51500000000000001},3,{"$f":"+WDI_Standard_Order_Form!L56","v":0},{"$f":"+D101*D43","v":0},0,0,0,0,0,0,0,0,0,0,0,0,null,0]
[{"$f":"IF($A$53=\"W\",+WDI_Standard_Order_Form!$AF$3,1)","v":0.51500000000000001},4,{"$f":"+WDI_Standard_Order_Form!L57","v":0},{"$f":"+D102*D44","v":0},0,0,0,0,0,0,0,0,0,0,0,0,null,0]
[{"$f":"IF($A$53=\"W\",+WDI_Standard_Order_Form!$AF$3,1)","v":0.51500000000000001},5,{"$f":"+WDI_Standard_Order_Form!L58","v":0},{"$f":"+D103*D45","v":0},0,0,0,0,0,0,0,0,0,0,0,0,null,0]
[{"$f":"IF($A$53=\"W\",+WDI_Standard_Order_Form!$AF$3,1)","v":0.51500000000000001},6,{"$f":"+WDI_Standard_Order_Form!L59","v":0},{"$f":"+D104*D46","v":0},0,0,0,0,0,0,0,0,0,0,0,0,null,0]
[{"$f":"IF($A$53=\"W\",+WDI_Standard_Order_Form!$AF$3,1)","v":0.51500000000000001},7,{"$f":"+WDI_Standard_Order_Form!L60","v":0},{"$f":"+D105*D47","v":0},0,0,0,0,0,0,0,0,0,0,0,0,null,0]
[{"$f":"IF($A$53=\"W\",+WDI_Standard_Order_Form!$AF$3,1)","v":0.51500000000000001},8,{"$f":"+WDI_Standard_Order_Form!L61","v":0},{"$f":"+D106*D48","v":0},0,0,0,0,0,0,0,0,0,0,0,0,null,0]
[{"$f":"IF($A$53=\"W\",+WDI_Standard_Order_Form!$AF$3,1)","v":0.51500000000000001},9,{"$f":"+WDI_Standard_Order_Form!L62","v":0},{"$f":"+D107*D49","v":0},0,0,0,0,0,0,0,0,0,0,0,0,null,0]
[{"$f":"IF($A$53=\"W\",+WDI_Standard_Order_Form!$AF$3,1)","v":0.51500000000000001},10,{"$f":"+WDI_Standard_Order_Form!L63","v":0},{"$f":"+D108*D50","v":0},0,0,0,0,0,0,0,0,0,0,0,0,null,0]
[{"$f":"IF($A$53=\"W\",+WDI_Standard_Order_Form!$AF$3,1)","v":0.51500000000000001},11,{"$f":"+WDI_Standard_Order_Form!L64","v":0},{"$f":"+D109*D51","v":0},0,0,0,0,0,0,0,0,0,0,0,0,null,0]

{"sheet":"Revisions","index":8,"n_rows":34,"n_cols":3,"rows_kept":34,"cut":false,"hidden":false,"merged":[]}
["Date","Description"]
["2018-12-14","Change pricing to 2019 price base"]
["2018-12-14","Add WDBB-001 to profile list"]
["2018-12-14","Add WDBC-022 @ 1.875\" to profile list"]
["2018-12-20","Add CRI pricing"]
[]
["2018-12-14","Following changes for version Jan-B2 to implement in January"]
["2018-12-31","Change colors to new color #'s"]
["2018-12-31","Specs, colors, & profiles updated"]
["2019-01-29","Color #50+","v1901Jan-B2-COLR"]
["2019-03-26","moved to Master Template area on server so everyone uses same master","v1903Mar-B2-COLR"]
["2019-12-23","Changed to 2020 pricing, updates templates","v2001Jan-T1-COLR"]
["2019-12-31","Changed to 2020 pricing, updates templates","v2001Jan-T2-COLR"]
["2020-01-22","Corrected error in Octagon label printing","v2001Jan-T3-COLR"]
["2020-01-23","Octagon w/cutlist","v2001Jan-T4-COLR"]
["2020-02-12","Colors 2019 or newer","v2002Feb-T1-Mfg"]
["2020-12-21","fixed Octagons to correct #'s cutlist & changed for 2021 pricing","v2012Dec-T1-Mfg"]
["2021-01-06","Corrected price on WDI stop","v2101Jan-T1-Mfg"]
["2021-06-28","Price change effective 7/18/21","v2107Jul-T1-Mfg"]
["2021-12-09","Price change effective 1/1/22","v2201Jan - Mfg"]
["2022-06-07","Price change effective 7/1/22","v2207Jul - Mfg"]
["2023-01-20","Price change effective 2/5/23","v2302Feb - Mfg"]
[null,null,{"$f":"+C22","v":"v2302Feb - Mfg"}]
[null,null,"v2302Feb - Mfg"]
[null,null,"v2302Feb - Mfg"]
[null,null,"v2302Feb - Mfg"]
[null,null,"v2302Feb - Mfg"]
[null,null,"v2302Feb - Mfg"]
[null,null,"v2302Feb - Mfg"]
[null,null,"v2302Feb - Mfg"]
[null,null,"v2302Feb - Mfg"]
[null,null,"v2302Feb - Mfg"]
[null,null,"v2302Feb - Mfg"]
[{"$f":"+C33","v":"v2302Feb - Mfg"},"<-- Version label for page #1"]